BEGIN:VCALENDAR
VERSION:2.0
PRODID:-//https://www.cumbrestoltec.org//NONSGML kigkonsult.se iCalcreator 
 2.16.12//
METHOD:PUBLISH
X-WR-CALNAME:JCal Pro Calendar
X-WR-CALDESC:Your online events calendar
X-WR-TIMEZONE:UTC
BEGIN:VEVENT
UID:7f7c5f93f996b84656ce4ea2fd5e945dhttp://www.cumbrestoltec.org/administra
 tor
DTSTAMP:20260423T190217Z
DESCRIPTION:Work Session B
DTSTART;TZID=America/Denver:20120601T000000
SUMMARY:Work Session B
URL:https://www.cumbrestoltec.org/calendar/18-friends-of-the-c-ts-rr-calend
 ar/20-work-sessions/58-work-session-b.html
END:VEVENT
BEGIN:VEVENT
UID:9566e54fee8ba1f6d43a44fe9b2dbfd0http://www.cumbrestoltec.org/administra
 tor
DTSTAMP:20260423T190217Z
DESCRIPTION:Work Session C
DTSTART;TZID=America/Denver:20120618T000000
SUMMARY:Work Session C
URL:https://www.cumbrestoltec.org/calendar/18-friends-of-the-c-ts-rr-calend
 ar/20-work-sessions/64-work-session-c.html
END:VEVENT
BEGIN:VEVENT
UID:9566e54fee8ba1f6d43a44fe9b2dbfd0http://www.cumbrestoltec.org/administra
 tor
DTSTAMP:20260423T190217Z
DESCRIPTION:Work Session C
DTSTART;TZID=America/Denver:20120619T000000
SUMMARY:Work Session C
URL:https://www.cumbrestoltec.org/calendar/18-friends-of-the-c-ts-rr-calend
 ar/20-work-sessions/65-work-session-c.html
END:VEVENT
BEGIN:VEVENT
UID:9566e54fee8ba1f6d43a44fe9b2dbfd0http://www.cumbrestoltec.org/administra
 tor
DTSTAMP:20260423T190217Z
DESCRIPTION:Work Session C
DTSTART;TZID=America/Denver:20120620T000000
SUMMARY:Work Session C
URL:https://www.cumbrestoltec.org/calendar/18-friends-of-the-c-ts-rr-calend
 ar/20-work-sessions/66-work-session-c.html
END:VEVENT
BEGIN:VEVENT
UID:9566e54fee8ba1f6d43a44fe9b2dbfd0http://www.cumbrestoltec.org/administra
 tor
DTSTAMP:20260423T190217Z
DESCRIPTION:Work Session C
DTSTART;TZID=America/Denver:20120621T000000
SUMMARY:Work Session C
URL:https://www.cumbrestoltec.org/calendar/18-friends-of-the-c-ts-rr-calend
 ar/20-work-sessions/67-work-session-c.html
END:VEVENT
BEGIN:VEVENT
UID:9566e54fee8ba1f6d43a44fe9b2dbfd0http://www.cumbrestoltec.org/administra
 tor
DTSTAMP:20260423T190217Z
DESCRIPTION:Work Session C
DTSTART;TZID=America/Denver:20120622T000000
SUMMARY:Work Session C
URL:https://www.cumbrestoltec.org/calendar/18-friends-of-the-c-ts-rr-calend
 ar/20-work-sessions/68-work-session-c.html
END:VEVENT
BEGIN:VEVENT
UID:39bf1e783ff40d817ccddf2e93b91226http://www.cumbrestoltec.org/administra
 tor
DTSTAMP:20260423T190217Z
DESCRIPTION:<p>Membership Dinner and Meeting</p>\n<p>Location to be determi
 ned</p>
DTSTART;TZID=America/Denver:20120622T180000
DTEND;TZID=America/Denver:20120622T210000
SUMMARY:Membership Meeting
URL:https://www.cumbrestoltec.org/calendar/18-friends-of-the-c-ts-rr-calend
 ar/19-friends-events/79-membership-meeting.html
END:VEVENT
BEGIN:VEVENT
UID:854d149f38a9295ec47e4ef8c6ddabdahttp://www.cumbrestoltec.org/administra
 tor
DTSTAMP:20260423T190217Z
DESCRIPTION:Board of Directors Meeting - Location to be determined
DTSTART;TZID=America/Denver:20120623T000000
SUMMARY:Board of Directors Meeting
URL:https://www.cumbrestoltec.org/calendar/18-friends-of-the-c-ts-rr-calend
 ar/19-friends-events/80-board-of-directors-meeting.html
END:VEVENT
BEGIN:VEVENT
UID:985fff04512e80361f90dc3a489a742fhttp://www.cumbrestoltec.org/administra
 tor
DTSTAMP:20260423T190217Z
DESCRIPTION:Work Session D
DTSTART;TZID=America/Denver:20120625T000000
SUMMARY:Work Session D
URL:https://www.cumbrestoltec.org/calendar/18-friends-of-the-c-ts-rr-calend
 ar/20-work-sessions/59-work-session-d.html
END:VEVENT
BEGIN:VEVENT
UID:985fff04512e80361f90dc3a489a742fhttp://www.cumbrestoltec.org/administra
 tor
DTSTAMP:20260423T190217Z
DESCRIPTION:Work Session D
DTSTART;TZID=America/Denver:20120626T000000
SUMMARY:Work Session D
URL:https://www.cumbrestoltec.org/calendar/18-friends-of-the-c-ts-rr-calend
 ar/20-work-sessions/60-work-session-d.html
END:VEVENT
BEGIN:VEVENT
UID:985fff04512e80361f90dc3a489a742fhttp://www.cumbrestoltec.org/administra
 tor
DTSTAMP:20260423T190217Z
DESCRIPTION:Work Session D
DTSTART;TZID=America/Denver:20120627T000000
SUMMARY:Work Session D
URL:https://www.cumbrestoltec.org/calendar/18-friends-of-the-c-ts-rr-calend
 ar/20-work-sessions/61-work-session-d.html
END:VEVENT
BEGIN:VEVENT
UID:985fff04512e80361f90dc3a489a742fhttp://www.cumbrestoltec.org/administra
 tor
DTSTAMP:20260423T190217Z
DESCRIPTION:Work Session D
DTSTART;TZID=America/Denver:20120628T000000
SUMMARY:Work Session D
URL:https://www.cumbrestoltec.org/calendar/18-friends-of-the-c-ts-rr-calend
 ar/20-work-sessions/62-work-session-d.html
END:VEVENT
BEGIN:VEVENT
UID:985fff04512e80361f90dc3a489a742fhttp://www.cumbrestoltec.org/administra
 tor
DTSTAMP:20260423T190217Z
DESCRIPTION:Work Session D
DTSTART;TZID=America/Denver:20120629T000000
SUMMARY:Work Session D
URL:https://www.cumbrestoltec.org/calendar/18-friends-of-the-c-ts-rr-calend
 ar/20-work-sessions/63-work-session-d.html
END:VEVENT
BEGIN:VEVENT
UID:a4d3918cccc0c802759e8b131c9a7a66http://www.cumbrestoltec.org/administra
 tor
DTSTAMP:20260423T190217Z
DESCRIPTION:<p>Moonlight Train</p>\n<p> </p>
DTSTART;TZID=America/Denver:20120630T174500
DTEND;TZID=America/Denver:20120630T234500
SUMMARY:Moonlight Train
URL:https://www.cumbrestoltec.org/calendar/18-friends-of-the-c-ts-rr-calend
 ar/19-friends-events/81-moonlight-train.html
END:VEVENT
END:VCALENDAR
