BEGIN:VCALENDAR
VERSION:2.0
PRODID:-//https://www.cumbrestoltec.org//NONSGML kigkonsult.se iCalcreator 
 2.16.12//
METHOD:PUBLISH
X-WR-CALNAME:JCal Pro Calendar
X-WR-CALDESC:Your online events calendar
X-WR-TIMEZONE:UTC
BEGIN:VEVENT
UID:7d6f4acd3d936fa25cff65bc9ef7289ehttp://www.cumbrestoltec.org/administra
 tor
DTSTAMP:20260423T221630Z
DESCRIPTION:Work Session E
DTSTART;TZID=America/Denver:20120806T000000
SUMMARY:Work Session E
URL:https://www.cumbrestoltec.org/calendar/18-friends-of-the-c-ts-rr-calend
 ar/20-work-sessions/69-work-session-e.html
END:VEVENT
BEGIN:VEVENT
UID:7d6f4acd3d936fa25cff65bc9ef7289ehttp://www.cumbrestoltec.org/administra
 tor
DTSTAMP:20260423T221630Z
DESCRIPTION:Work Session E
DTSTART;TZID=America/Denver:20120807T000000
SUMMARY:Work Session E
URL:https://www.cumbrestoltec.org/calendar/18-friends-of-the-c-ts-rr-calend
 ar/20-work-sessions/70-work-session-e.html
END:VEVENT
BEGIN:VEVENT
UID:7d6f4acd3d936fa25cff65bc9ef7289ehttp://www.cumbrestoltec.org/administra
 tor
DTSTAMP:20260423T221630Z
DESCRIPTION:Work Session E
DTSTART;TZID=America/Denver:20120808T000000
SUMMARY:Work Session E
URL:https://www.cumbrestoltec.org/calendar/18-friends-of-the-c-ts-rr-calend
 ar/20-work-sessions/71-work-session-e.html
END:VEVENT
BEGIN:VEVENT
UID:7d6f4acd3d936fa25cff65bc9ef7289ehttp://www.cumbrestoltec.org/administra
 tor
DTSTAMP:20260423T221630Z
DESCRIPTION:Work Session E
DTSTART;TZID=America/Denver:20120809T000000
SUMMARY:Work Session E
URL:https://www.cumbrestoltec.org/calendar/18-friends-of-the-c-ts-rr-calend
 ar/20-work-sessions/72-work-session-e.html
END:VEVENT
BEGIN:VEVENT
UID:7d6f4acd3d936fa25cff65bc9ef7289ehttp://www.cumbrestoltec.org/administra
 tor
DTSTAMP:20260423T221630Z
DESCRIPTION:Work Session E
DTSTART;TZID=America/Denver:20120810T000000
SUMMARY:Work Session E
URL:https://www.cumbrestoltec.org/calendar/18-friends-of-the-c-ts-rr-calend
 ar/20-work-sessions/73-work-session-e.html
END:VEVENT
BEGIN:VEVENT
UID:d8738296980f4eee82085e22315976e9http://www.cumbrestoltec.org/administra
 tor
DTSTAMP:20260423T221630Z
DESCRIPTION:Work Session F
DTSTART;TZID=America/Denver:20120813T000000
SUMMARY:Work Session F
URL:https://www.cumbrestoltec.org/calendar/18-friends-of-the-c-ts-rr-calend
 ar/20-work-sessions/74-work-session-f.html
END:VEVENT
BEGIN:VEVENT
UID:d8738296980f4eee82085e22315976e9http://www.cumbrestoltec.org/administra
 tor
DTSTAMP:20260423T221630Z
DESCRIPTION:Work Session F
DTSTART;TZID=America/Denver:20120814T000000
SUMMARY:Work Session F
URL:https://www.cumbrestoltec.org/calendar/18-friends-of-the-c-ts-rr-calend
 ar/20-work-sessions/75-work-session-f.html
END:VEVENT
BEGIN:VEVENT
UID:d8738296980f4eee82085e22315976e9http://www.cumbrestoltec.org/administra
 tor
DTSTAMP:20260423T221630Z
DESCRIPTION:Work Session F
DTSTART;TZID=America/Denver:20120815T000000
SUMMARY:Work Session F
URL:https://www.cumbrestoltec.org/calendar/18-friends-of-the-c-ts-rr-calend
 ar/20-work-sessions/76-work-session-f.html
END:VEVENT
BEGIN:VEVENT
UID:d8738296980f4eee82085e22315976e9http://www.cumbrestoltec.org/administra
 tor
DTSTAMP:20260423T221630Z
DESCRIPTION:Work Session F
DTSTART;TZID=America/Denver:20120816T000000
SUMMARY:Work Session F
URL:https://www.cumbrestoltec.org/calendar/18-friends-of-the-c-ts-rr-calend
 ar/20-work-sessions/77-work-session-f.html
END:VEVENT
BEGIN:VEVENT
UID:d8738296980f4eee82085e22315976e9http://www.cumbrestoltec.org/administra
 tor
DTSTAMP:20260423T221630Z
DESCRIPTION:Work Session F
DTSTART;TZID=America/Denver:20120817T000000
SUMMARY:Work Session F
URL:https://www.cumbrestoltec.org/calendar/18-friends-of-the-c-ts-rr-calend
 ar/20-work-sessions/78-work-session-f.html
END:VEVENT
END:VCALENDAR
