BEGIN:VCALENDAR
VERSION:2.0
PRODID:-//https://www.cumbrestoltec.org//NONSGML kigkonsult.se iCalcreator 
 2.16.12//
METHOD:PUBLISH
X-WR-CALNAME:JCal Pro Calendar
X-WR-CALDESC:Your online events calendar
X-WR-TIMEZONE:UTC
BEGIN:VEVENT
UID:4e523a202a4c84b0fd50b9dd531fc73fhttp://www.cumbrestoltec.org/administra
 tor
DTSTAMP:20260423T223743Z
DESCRIPTION:Work Session 'E'
DTSTART;TZID=America/Denver:20130801T000000
SUMMARY:2013 Work Session 'E'
URL:https://www.cumbrestoltec.org/calendar/18-friends-of-the-c-ts-rr-calend
 ar/20-work-sessions/113-2013-work-session-e.html
END:VEVENT
BEGIN:VEVENT
UID:4e523a202a4c84b0fd50b9dd531fc73fhttp://www.cumbrestoltec.org/administra
 tor
DTSTAMP:20260423T223743Z
DESCRIPTION:Work Session 'E'
DTSTART;TZID=America/Denver:20130802T000000
SUMMARY:2013 Work Session 'E'
URL:https://www.cumbrestoltec.org/calendar/18-friends-of-the-c-ts-rr-calend
 ar/20-work-sessions/114-2013-work-session-e.html
END:VEVENT
BEGIN:VEVENT
UID:78eff325958a2cb80eaa8c9715cf5e25http://www.cumbrestoltec.org/administra
 tor
DTSTAMP:20260423T223743Z
DESCRIPTION:Work Session 'F'
DTSTART;TZID=America/Denver:20130805T000000
SUMMARY:2013 Work Session 'F'
URL:https://www.cumbrestoltec.org/calendar/18-friends-of-the-c-ts-rr-calend
 ar/20-work-sessions/115-2013-work-session-f.html
END:VEVENT
BEGIN:VEVENT
UID:78eff325958a2cb80eaa8c9715cf5e25http://www.cumbrestoltec.org/administra
 tor
DTSTAMP:20260423T223743Z
DESCRIPTION:Work Session 'F'
DTSTART;TZID=America/Denver:20130806T000000
SUMMARY:2013 Work Session 'F'
URL:https://www.cumbrestoltec.org/calendar/18-friends-of-the-c-ts-rr-calend
 ar/20-work-sessions/116-2013-work-session-f.html
END:VEVENT
BEGIN:VEVENT
UID:78eff325958a2cb80eaa8c9715cf5e25http://www.cumbrestoltec.org/administra
 tor
DTSTAMP:20260423T223743Z
DESCRIPTION:Work Session 'F'
DTSTART;TZID=America/Denver:20130807T000000
SUMMARY:2013 Work Session 'F'
URL:https://www.cumbrestoltec.org/calendar/18-friends-of-the-c-ts-rr-calend
 ar/20-work-sessions/117-2013-work-session-f.html
END:VEVENT
BEGIN:VEVENT
UID:78eff325958a2cb80eaa8c9715cf5e25http://www.cumbrestoltec.org/administra
 tor
DTSTAMP:20260423T223743Z
DESCRIPTION:Work Session 'F'
DTSTART;TZID=America/Denver:20130808T000000
SUMMARY:2013 Work Session 'F'
URL:https://www.cumbrestoltec.org/calendar/18-friends-of-the-c-ts-rr-calend
 ar/20-work-sessions/118-2013-work-session-f.html
END:VEVENT
BEGIN:VEVENT
UID:78eff325958a2cb80eaa8c9715cf5e25http://www.cumbrestoltec.org/administra
 tor
DTSTAMP:20260423T223743Z
DESCRIPTION:Work Session 'F'
DTSTART;TZID=America/Denver:20130809T000000
SUMMARY:2013 Work Session 'F'
URL:https://www.cumbrestoltec.org/calendar/18-friends-of-the-c-ts-rr-calend
 ar/20-work-sessions/119-2013-work-session-f.html
END:VEVENT
END:VCALENDAR
