BEGIN:VCALENDAR
VERSION:2.0
PRODID:-//https://www.cumbrestoltec.org//NONSGML kigkonsult.se iCalcreator 
 2.16.12//
METHOD:PUBLISH
X-WR-CALNAME:JCal Pro Calendar
X-WR-CALDESC:Your online events calendar
X-WR-TIMEZONE:UTC
BEGIN:VEVENT
UID:57d0200cd0f3fcea0935a0c8e6339a79http://www.cumbrestoltec.org/administra
 tor
DTSTAMP:20260424T001810Z
DESCRIPTION:<html />
DTSTART;TZID=America/Denver:20130930T090000
DTEND;TZID=America/Denver:20130930T170000
SUMMARY:Work Session G
URL:https://www.cumbrestoltec.org/calendar/18-friends-of-the-c-ts-rr-calend
 ar/20-work-sessions/120-work-session-g.html
END:VEVENT
BEGIN:VEVENT
UID:57d0200cd0f3fcea0935a0c8e6339a79http://www.cumbrestoltec.org/administra
 tor
DTSTAMP:20260424T001810Z
DESCRIPTION:<html />
DTSTART;TZID=America/Denver:20131001T090000
DTEND;TZID=America/Denver:20131001T170000
SUMMARY:Work Session G
URL:https://www.cumbrestoltec.org/calendar/18-friends-of-the-c-ts-rr-calend
 ar/20-work-sessions/121-work-session-g.html
END:VEVENT
END:VCALENDAR
