BEGIN:VCALENDAR
VERSION:2.0
PRODID:-//https://www.cumbrestoltec.org//NONSGML kigkonsult.se iCalcreator 
 2.16.12//
METHOD:PUBLISH
X-WR-CALNAME:JCal Pro Calendar
X-WR-CALDESC:Your online events calendar
X-WR-TIMEZONE:UTC
BEGIN:VEVENT
UID:20140519T080000UTC-b26fcc@http://www.cumbrestoltec.org/
DTSTAMP:20260423T190538Z
DESCRIPTION:<p>Work Session A</p>
DTSTART:20140519T000000Z
SUMMARY:2014 Work Session A
URL:https://www.cumbrestoltec.org/calendar/18-friends-of-the-c-ts-rr-calend
 ar/20-work-sessions/127-2014-work-session-a.html
END:VEVENT
BEGIN:VEVENT
UID:20140519T080000UTC-b26fcc@http://www.cumbrestoltec.org/
DTSTAMP:20260423T190538Z
DESCRIPTION:<p>Work Session A</p>
DTSTART:20140520T000000Z
SUMMARY:2014 Work Session A
URL:https://www.cumbrestoltec.org/calendar/18-friends-of-the-c-ts-rr-calend
 ar/20-work-sessions/208-2014-work-session-a.html
END:VEVENT
BEGIN:VEVENT
UID:20140519T080000UTC-b26fcc@http://www.cumbrestoltec.org/
DTSTAMP:20260423T190538Z
DESCRIPTION:<p>Work Session A</p>
DTSTART:20140521T000000Z
SUMMARY:2014 Work Session A
URL:https://www.cumbrestoltec.org/calendar/18-friends-of-the-c-ts-rr-calend
 ar/20-work-sessions/209-2014-work-session-a.html
END:VEVENT
BEGIN:VEVENT
UID:20140519T080000UTC-b26fcc@http://www.cumbrestoltec.org/
DTSTAMP:20260423T190538Z
DESCRIPTION:<p>Work Session A</p>
DTSTART:20140522T000000Z
SUMMARY:2014 Work Session A
URL:https://www.cumbrestoltec.org/calendar/18-friends-of-the-c-ts-rr-calend
 ar/20-work-sessions/210-2014-work-session-a.html
END:VEVENT
BEGIN:VEVENT
UID:20140519T080000UTC-b26fcc@http://www.cumbrestoltec.org/
DTSTAMP:20260423T190538Z
DESCRIPTION:<p>Work Session A</p>
DTSTART:20140523T000000Z
SUMMARY:2014 Work Session A
URL:https://www.cumbrestoltec.org/calendar/18-friends-of-the-c-ts-rr-calend
 ar/20-work-sessions/211-2014-work-session-a.html
END:VEVENT
BEGIN:VEVENT
UID:20140526T080000UTC-d77483@http://www.cumbrestoltec.org/
DTSTAMP:20260423T190538Z
DESCRIPTION:<p>Work Session B</p>
DTSTART:20140526T000000Z
SUMMARY:2014 Work Session B
URL:https://www.cumbrestoltec.org/calendar/18-friends-of-the-c-ts-rr-calend
 ar/20-work-sessions/132-2014-work-session-b.html
END:VEVENT
BEGIN:VEVENT
UID:20140526T080000UTC-d77483@http://www.cumbrestoltec.org/
DTSTAMP:20260423T190538Z
DESCRIPTION:<p>Work Session B</p>
DTSTART:20140527T000000Z
SUMMARY:2014 Work Session B
URL:https://www.cumbrestoltec.org/calendar/18-friends-of-the-c-ts-rr-calend
 ar/20-work-sessions/204-2014-work-session-b.html
END:VEVENT
BEGIN:VEVENT
UID:20140526T080000UTC-d77483@http://www.cumbrestoltec.org/
DTSTAMP:20260423T190538Z
DESCRIPTION:<p>Work Session B</p>
DTSTART:20140528T000000Z
SUMMARY:2014 Work Session B
URL:https://www.cumbrestoltec.org/calendar/18-friends-of-the-c-ts-rr-calend
 ar/20-work-sessions/205-2014-work-session-b.html
END:VEVENT
BEGIN:VEVENT
UID:20140526T080000UTC-d77483@http://www.cumbrestoltec.org/
DTSTAMP:20260423T190538Z
DESCRIPTION:<p>Work Session B</p>
DTSTART:20140529T000000Z
SUMMARY:2014 Work Session B
URL:https://www.cumbrestoltec.org/calendar/18-friends-of-the-c-ts-rr-calend
 ar/20-work-sessions/206-2014-work-session-b.html
END:VEVENT
BEGIN:VEVENT
UID:20140526T080000UTC-d77483@http://www.cumbrestoltec.org/
DTSTAMP:20260423T190538Z
DESCRIPTION:<p>Work Session B</p>
DTSTART:20140530T000000Z
SUMMARY:2014 Work Session B
URL:https://www.cumbrestoltec.org/calendar/18-friends-of-the-c-ts-rr-calend
 ar/20-work-sessions/207-2014-work-session-b.html
END:VEVENT
END:VCALENDAR
