BEGIN:VCALENDAR
VERSION:2.0
PRODID:-//https://www.cumbrestoltec.org//NONSGML kigkonsult.se iCalcreator 
 2.16.12//
METHOD:PUBLISH
X-WR-CALNAME:JCal Pro Calendar
X-WR-CALDESC:Your online events calendar
X-WR-TIMEZONE:UTC
BEGIN:VEVENT
UID:20140711T170000UTC-405dc6@http://www.cumbrestoltec.org/
DTSTAMP:20260423T222002Z
DESCRIPTION:<p>2014 Moonlight &amp\; Wine-Tasting Train</p>\n<p>Departs fro
 m Chama 5:30 pm<br />Arrives in Cumbres&nbsp\;&nbsp\;&nbsp\; 7:00 pm<br />
 Departs Cumbres&nbsp\;&nbsp\;&nbsp\;&nbsp\;&nbsp\;&nbsp\; 7:10 pm<br />Arr
 ives in Osier&nbsp\;&nbsp\;&nbsp\;&nbsp\;&nbsp\;&nbsp\;&nbsp\;&nbsp\;&nbsp
 \; 7:45 pm<br />Dinner in Osier (Inculded in ticket price)<br />Departs Os
 ier&nbsp\;&nbsp\;&nbsp\;&nbsp\;&nbsp\;&nbsp\;&nbsp\;&nbsp\;&nbsp\;&nbsp\;&
 nbsp\;&nbsp\; 9:00 pm<br />Arrives in Cumbres&nbsp\;&nbsp\;&nbsp\;&nbsp\;1
 0:00 pm<br />Returns to Chama&nbsp\;&nbsp\;&nbsp\;&nbsp\;&nbsp\;&nbsp\;11:
 30 - well satisfied</p>\n<p>Times are approximate - Actual times are subje
 ct to the vagaries of historic equipment and operating conditions.</p>\n<p
 >Ticket Prices include dinner:</p>\n<p>Parlor Car&nbsp\;&nbsp\; $150.00</p
 >\n<p>Tourist Class&nbsp\; $120.00</p>\n<p>Coach Seating: $99.00<br />Frie
 nds Members $89.00</p>\n<p>Children 12 and under: $65.00<br />Friends Memb
 ers $55.00&nbsp\;&nbsp\;&nbsp\;&nbsp\;&nbsp\;</p>\n<p>No discounts for Par
 lor Car or Tourist Class seating.</p>
DTSTART:20140711T170000Z
DTEND:20140711T180000Z
SUMMARY:2014 Moonlight Train
URL:https://www.cumbrestoltec.org/calendar/18-friends-of-the-c-ts-rr-calend
 ar/19-friends-events/213-2014-moonlight-train.html
END:VEVENT
BEGIN:VEVENT
UID:20140623T080000UTC-c828ac@http://www.cumbrestoltec.org/
DTSTAMP:20260423T222002Z
DESCRIPTION:<p>Work Session E</p>
DTSTART:20140728T000000Z
SUMMARY:2014 Work Session E
URL:https://www.cumbrestoltec.org/calendar/18-friends-of-the-c-ts-rr-calend
 ar/20-work-sessions/148-2014-work-session-d.html
END:VEVENT
BEGIN:VEVENT
UID:20140623T080000UTC-c828ac@http://www.cumbrestoltec.org/
DTSTAMP:20260423T222002Z
DESCRIPTION:<p>Work Session E</p>
DTSTART:20140729T000000Z
SUMMARY:2014 Work Session E
URL:https://www.cumbrestoltec.org/calendar/18-friends-of-the-c-ts-rr-calend
 ar/20-work-sessions/188-2014-work-session-d.html
END:VEVENT
BEGIN:VEVENT
UID:20140623T080000UTC-c828ac@http://www.cumbrestoltec.org/
DTSTAMP:20260423T222002Z
DESCRIPTION:<p>Work Session E</p>
DTSTART:20140730T000000Z
SUMMARY:2014 Work Session E
URL:https://www.cumbrestoltec.org/calendar/18-friends-of-the-c-ts-rr-calend
 ar/20-work-sessions/189-2014-work-session-d.html
END:VEVENT
BEGIN:VEVENT
UID:20140623T080000UTC-c828ac@http://www.cumbrestoltec.org/
DTSTAMP:20260423T222002Z
DESCRIPTION:<p>Work Session E</p>
DTSTART:20140731T000000Z
SUMMARY:2014 Work Session E
URL:https://www.cumbrestoltec.org/calendar/18-friends-of-the-c-ts-rr-calend
 ar/20-work-sessions/190-2014-work-session-d.html
END:VEVENT
BEGIN:VEVENT
UID:20140623T080000UTC-c828ac@http://www.cumbrestoltec.org/
DTSTAMP:20260423T222002Z
DESCRIPTION:<p>Work Session E</p>
DTSTART:20140801T000000Z
SUMMARY:2014 Work Session E
URL:https://www.cumbrestoltec.org/calendar/18-friends-of-the-c-ts-rr-calend
 ar/20-work-sessions/191-2014-work-session-d.html
END:VEVENT
END:VCALENDAR
