BEGIN:VCALENDAR
VERSION:2.0
PRODID:-//https://www.cumbrestoltec.org//NONSGML kigkonsult.se iCalcreator 
 2.16.12//
METHOD:PUBLISH
X-WR-CALNAME:JCal Pro Calendar
X-WR-CALDESC:Your online events calendar
X-WR-TIMEZONE:UTC
BEGIN:VEVENT
UID:20150518T140000UTC-5250d8@http://www.cumbrestoltec.org/
DTSTAMP:20260424T063611Z
DESCRIPTION:<p>2015 Work Session 'A' May 18 - 24\, 2015&nbsp\; 8:00 am - 5:
 00 pm</p>
DTSTART;TZID=America/Denver:20150518T000000
SUMMARY:2015 Work Session 'A'
URL:https://www.cumbrestoltec.org/calendar/18-friends-of-the-c-ts-rr-calend
 ar/20-work-sessions/214-2015-work-session-a.html
END:VEVENT
BEGIN:VEVENT
UID:20150518T140000UTC-5250d8@http://www.cumbrestoltec.org/
DTSTAMP:20260424T063611Z
DESCRIPTION:<p>2015 Work Session 'A' May 18 - 24\, 2015&nbsp\; 8:00 am - 5:
 00 pm</p>
DTSTART;TZID=America/Denver:20150519T000000
SUMMARY:2015 Work Session 'A'
URL:https://www.cumbrestoltec.org/calendar/18-friends-of-the-c-ts-rr-calend
 ar/20-work-sessions/329-2015-work-session-a.html
END:VEVENT
BEGIN:VEVENT
UID:20150518T140000UTC-5250d8@http://www.cumbrestoltec.org/
DTSTAMP:20260424T063611Z
DESCRIPTION:<p>2015 Work Session 'A' May 18 - 24\, 2015&nbsp\; 8:00 am - 5:
 00 pm</p>
DTSTART;TZID=America/Denver:20150520T000000
SUMMARY:2015 Work Session 'A'
URL:https://www.cumbrestoltec.org/calendar/18-friends-of-the-c-ts-rr-calend
 ar/20-work-sessions/330-2015-work-session-a.html
END:VEVENT
BEGIN:VEVENT
UID:20150518T140000UTC-5250d8@http://www.cumbrestoltec.org/
DTSTAMP:20260424T063611Z
DESCRIPTION:<p>2015 Work Session 'A' May 18 - 24\, 2015&nbsp\; 8:00 am - 5:
 00 pm</p>
DTSTART;TZID=America/Denver:20150521T000000
SUMMARY:2015 Work Session 'A'
URL:https://www.cumbrestoltec.org/calendar/18-friends-of-the-c-ts-rr-calend
 ar/20-work-sessions/331-2015-work-session-a.html
END:VEVENT
BEGIN:VEVENT
UID:20150518T140000UTC-5250d8@http://www.cumbrestoltec.org/
DTSTAMP:20260424T063611Z
DESCRIPTION:<p>2015 Work Session 'A' May 18 - 24\, 2015&nbsp\; 8:00 am - 5:
 00 pm</p>
DTSTART;TZID=America/Denver:20150522T000000
SUMMARY:2015 Work Session 'A'
URL:https://www.cumbrestoltec.org/calendar/18-friends-of-the-c-ts-rr-calend
 ar/20-work-sessions/332-2015-work-session-a.html
END:VEVENT
BEGIN:VEVENT
UID:20150525T080000UTC-5433f5@http://www.cumbrestoltec.org/
DTSTAMP:20260424T063611Z
DESCRIPTION:<p>2015 Work Session 'B' May 25 - 29\, 2015 8:00 am - 5:00 pm</
 p>
DTSTART;TZID=America/Denver:20150525T000000
SUMMARY:2015 Work Session 'B'
URL:https://www.cumbrestoltec.org/calendar/18-friends-of-the-c-ts-rr-calend
 ar/20-work-sessions/231-2015-work-session-b.html
END:VEVENT
BEGIN:VEVENT
UID:20150525T080000UTC-5433f5@http://www.cumbrestoltec.org/
DTSTAMP:20260424T063611Z
DESCRIPTION:<p>2015 Work Session 'B' May 25 - 29\, 2015 8:00 am - 5:00 pm</
 p>
DTSTART;TZID=America/Denver:20150526T000000
SUMMARY:2015 Work Session 'B'
URL:https://www.cumbrestoltec.org/calendar/18-friends-of-the-c-ts-rr-calend
 ar/20-work-sessions/281-2015-work-session-b.html
END:VEVENT
BEGIN:VEVENT
UID:20150525T080000UTC-5433f5@http://www.cumbrestoltec.org/
DTSTAMP:20260424T063611Z
DESCRIPTION:<p>2015 Work Session 'B' May 25 - 29\, 2015 8:00 am - 5:00 pm</
 p>
DTSTART;TZID=America/Denver:20150527T000000
SUMMARY:2015 Work Session 'B'
URL:https://www.cumbrestoltec.org/calendar/18-friends-of-the-c-ts-rr-calend
 ar/20-work-sessions/282-2015-work-session-b.html
END:VEVENT
BEGIN:VEVENT
UID:20150525T080000UTC-5433f5@http://www.cumbrestoltec.org/
DTSTAMP:20260424T063611Z
DESCRIPTION:<p>2015 Work Session 'B' May 25 - 29\, 2015 8:00 am - 5:00 pm</
 p>
DTSTART;TZID=America/Denver:20150528T000000
SUMMARY:2015 Work Session 'B'
URL:https://www.cumbrestoltec.org/calendar/18-friends-of-the-c-ts-rr-calend
 ar/20-work-sessions/283-2015-work-session-b.html
END:VEVENT
BEGIN:VEVENT
UID:20150525T080000UTC-5433f5@http://www.cumbrestoltec.org/
DTSTAMP:20260424T063611Z
DESCRIPTION:<p>2015 Work Session 'B' May 25 - 29\, 2015 8:00 am - 5:00 pm</
 p>
DTSTART;TZID=America/Denver:20150529T000000
SUMMARY:2015 Work Session 'B'
URL:https://www.cumbrestoltec.org/calendar/18-friends-of-the-c-ts-rr-calend
 ar/20-work-sessions/284-2015-work-session-b.html
END:VEVENT
END:VCALENDAR
