BEGIN:VCALENDAR
VERSION:2.0
PRODID:-//https://www.cumbrestoltec.org//NONSGML kigkonsult.se iCalcreator 
 2.16.12//
METHOD:PUBLISH
X-WR-CALNAME:JCal Pro Calendar
X-WR-CALDESC:Your online events calendar
X-WR-TIMEZONE:UTC
BEGIN:VEVENT
UID:20160505T080000UTC-6e2d97@http://www.cumbrestoltec.org/
DTSTAMP:20260423T190410Z
DESCRIPTION:<p>SOLD OUT - Please call to be on the waiting list and express
  interest in future trips!</p>
DTSTART:20160505T080000Z
DTEND:20160505T090000Z
SUMMARY:LA-Seattle Private Car Charter
URL:https://www.cumbrestoltec.org/calendar/18-friends-of-the-c-ts-rr-calend
 ar/19-friends-events/408-la-seattle-private-car-charter.html
END:VEVENT
BEGIN:VEVENT
UID:20160505T080000UTC-6e2d97@http://www.cumbrestoltec.org/
DTSTAMP:20260423T190410Z
DESCRIPTION:<p>SOLD OUT - Please call to be on the waiting list and express
  interest in future trips!</p>
DTSTART:20160506T080000Z
DTEND:20160506T090000Z
SUMMARY:LA-Seattle Private Car Charter
URL:https://www.cumbrestoltec.org/calendar/18-friends-of-the-c-ts-rr-calend
 ar/19-friends-events/416-la-seattle-private-car-charter.html
END:VEVENT
BEGIN:VEVENT
UID:20160505T080000UTC-6e2d97@http://www.cumbrestoltec.org/
DTSTAMP:20260423T190410Z
DESCRIPTION:<p>SOLD OUT - Please call to be on the waiting list and express
  interest in future trips!</p>
DTSTART:20160507T080000Z
DTEND:20160507T090000Z
SUMMARY:LA-Seattle Private Car Charter
URL:https://www.cumbrestoltec.org/calendar/18-friends-of-the-c-ts-rr-calend
 ar/19-friends-events/417-la-seattle-private-car-charter.html
END:VEVENT
BEGIN:VEVENT
UID:20160505T080000UTC-6e2d97@http://www.cumbrestoltec.org/
DTSTAMP:20260423T190410Z
DESCRIPTION:<p>SOLD OUT - Please call to be on the waiting list and express
  interest in future trips!</p>
DTSTART:20160508T080000Z
DTEND:20160508T090000Z
SUMMARY:LA-Seattle Private Car Charter
URL:https://www.cumbrestoltec.org/calendar/18-friends-of-the-c-ts-rr-calend
 ar/19-friends-events/418-la-seattle-private-car-charter.html
END:VEVENT
BEGIN:VEVENT
UID:20160505T080000UTC-6e2d97@http://www.cumbrestoltec.org/
DTSTAMP:20260423T190410Z
DESCRIPTION:<p>SOLD OUT - Please call to be on the waiting list and express
  interest in future trips!</p>
DTSTART:20160509T080000Z
DTEND:20160509T090000Z
SUMMARY:LA-Seattle Private Car Charter
URL:https://www.cumbrestoltec.org/calendar/18-friends-of-the-c-ts-rr-calend
 ar/19-friends-events/419-la-seattle-private-car-charter.html
END:VEVENT
BEGIN:VEVENT
UID:20160505T080000UTC-6e2d97@http://www.cumbrestoltec.org/
DTSTAMP:20260423T190410Z
DESCRIPTION:<p>SOLD OUT - Please call to be on the waiting list and express
  interest in future trips!</p>
DTSTART:20160510T080000Z
DTEND:20160510T090000Z
SUMMARY:LA-Seattle Private Car Charter
URL:https://www.cumbrestoltec.org/calendar/18-friends-of-the-c-ts-rr-calend
 ar/19-friends-events/420-la-seattle-private-car-charter.html
END:VEVENT
BEGIN:VEVENT
UID:20160505T080000UTC-6e2d97@http://www.cumbrestoltec.org/
DTSTAMP:20260423T190410Z
DESCRIPTION:<p>SOLD OUT - Please call to be on the waiting list and express
  interest in future trips!</p>
DTSTART:20160511T080000Z
DTEND:20160511T090000Z
SUMMARY:LA-Seattle Private Car Charter
URL:https://www.cumbrestoltec.org/calendar/18-friends-of-the-c-ts-rr-calend
 ar/19-friends-events/421-la-seattle-private-car-charter.html
END:VEVENT
BEGIN:VEVENT
UID:20160505T080000UTC-6e2d97@http://www.cumbrestoltec.org/
DTSTAMP:20260423T190410Z
DESCRIPTION:<p>SOLD OUT - Please call to be on the waiting list and express
  interest in future trips!</p>
DTSTART:20160512T080000Z
DTEND:20160512T090000Z
SUMMARY:LA-Seattle Private Car Charter
URL:https://www.cumbrestoltec.org/calendar/18-friends-of-the-c-ts-rr-calend
 ar/19-friends-events/422-la-seattle-private-car-charter.html
END:VEVENT
BEGIN:VEVENT
UID:20160518T140000UTC-a6f9c8@http://www.cumbrestoltec.org/
DTSTAMP:20260423T190410Z
DESCRIPTION:
DTSTART:20160518T000000Z
SUMMARY:2016 Special Session
URL:https://www.cumbrestoltec.org/calendar/18-friends-of-the-c-ts-rr-calend
 ar/20-work-sessions/333-2016-special-session.html
END:VEVENT
BEGIN:VEVENT
UID:20160518T140000UTC-a6f9c8@http://www.cumbrestoltec.org/
DTSTAMP:20260423T190410Z
DESCRIPTION:
DTSTART:20160519T000000Z
SUMMARY:2016 Special Session
URL:https://www.cumbrestoltec.org/calendar/18-friends-of-the-c-ts-rr-calend
 ar/20-work-sessions/343-2016-special-session.html
END:VEVENT
BEGIN:VEVENT
UID:20160518T140000UTC-a6f9c8@http://www.cumbrestoltec.org/
DTSTAMP:20260423T190410Z
DESCRIPTION:
DTSTART:20160520T000000Z
SUMMARY:2016 Special Session
URL:https://www.cumbrestoltec.org/calendar/18-friends-of-the-c-ts-rr-calend
 ar/20-work-sessions/344-2016-special-session.html
END:VEVENT
BEGIN:VEVENT
UID:20160518T140000UTC-a6f9c8@http://www.cumbrestoltec.org/
DTSTAMP:20260423T190410Z
DESCRIPTION:
DTSTART:20160521T000000Z
SUMMARY:2016 Special Session
URL:https://www.cumbrestoltec.org/calendar/18-friends-of-the-c-ts-rr-calend
 ar/20-work-sessions/345-2016-special-session.html
END:VEVENT
BEGIN:VEVENT
UID:20160518T140000UTC-a6f9c8@http://www.cumbrestoltec.org/
DTSTAMP:20260423T190410Z
DESCRIPTION:
DTSTART:20160522T000000Z
SUMMARY:2016 Special Session
URL:https://www.cumbrestoltec.org/calendar/18-friends-of-the-c-ts-rr-calend
 ar/20-work-sessions/346-2016-special-session.html
END:VEVENT
BEGIN:VEVENT
UID:20160523T140000UTC-3c73f5@http://www.cumbrestoltec.org/
DTSTAMP:20260423T190410Z
DESCRIPTION:
DTSTART:20160523T000000Z
SUMMARY:2016 Work Session A
URL:https://www.cumbrestoltec.org/calendar/18-friends-of-the-c-ts-rr-calend
 ar/20-work-sessions/338-2016-work-session-a.html
END:VEVENT
BEGIN:VEVENT
UID:20160523T140000UTC-3c73f5@http://www.cumbrestoltec.org/
DTSTAMP:20260423T190410Z
DESCRIPTION:
DTSTART:20160524T000000Z
SUMMARY:2016 Work Session A
URL:https://www.cumbrestoltec.org/calendar/18-friends-of-the-c-ts-rr-calend
 ar/20-work-sessions/347-2016-work-session-a.html
END:VEVENT
BEGIN:VEVENT
UID:20160523T140000UTC-3c73f5@http://www.cumbrestoltec.org/
DTSTAMP:20260423T190410Z
DESCRIPTION:
DTSTART:20160525T000000Z
SUMMARY:2016 Work Session A
URL:https://www.cumbrestoltec.org/calendar/18-friends-of-the-c-ts-rr-calend
 ar/20-work-sessions/348-2016-work-session-a.html
END:VEVENT
BEGIN:VEVENT
UID:20160523T140000UTC-3c73f5@http://www.cumbrestoltec.org/
DTSTAMP:20260423T190410Z
DESCRIPTION:
DTSTART:20160526T000000Z
SUMMARY:2016 Work Session A
URL:https://www.cumbrestoltec.org/calendar/18-friends-of-the-c-ts-rr-calend
 ar/20-work-sessions/349-2016-work-session-a.html
END:VEVENT
BEGIN:VEVENT
UID:20160523T140000UTC-3c73f5@http://www.cumbrestoltec.org/
DTSTAMP:20260423T190410Z
DESCRIPTION:
DTSTART:20160527T000000Z
SUMMARY:2016 Work Session A
URL:https://www.cumbrestoltec.org/calendar/18-friends-of-the-c-ts-rr-calend
 ar/20-work-sessions/350-2016-work-session-a.html
END:VEVENT
BEGIN:VEVENT
UID:20160528T100000UTC-0dd39f@http://www.cumbrestoltec.org/
DTSTAMP:20260423T190410Z
DESCRIPTION:<p>2016 Train Season</p>\n<p>Visit <a href='http://www.cumbrest
 oltec.com'>www.cumbrestoltec.com</a>&nbsp\;for information and tickets</p>
DTSTART:20160528T100000Z
DTEND:20160528T110000Z
SUMMARY:Train Season
URL:https://www.cumbrestoltec.org/calendar/18-friends-of-the-c-ts-rr-calend
 ar/22-railroad-events/446-train-season.html
END:VEVENT
BEGIN:VEVENT
UID:20160528T100000UTC-0dd39f@http://www.cumbrestoltec.org/
DTSTAMP:20260423T190410Z
DESCRIPTION:<p>2016 Train Season</p>\n<p>Visit <a href='http://www.cumbrest
 oltec.com'>www.cumbrestoltec.com</a>&nbsp\;for information and tickets</p>
DTSTART:20160529T100000Z
DTEND:20160529T110000Z
SUMMARY:Train Season
URL:https://www.cumbrestoltec.org/calendar/18-friends-of-the-c-ts-rr-calend
 ar/22-railroad-events/447-train-season.html
END:VEVENT
BEGIN:VEVENT
UID:20160530T180000UTC-d7f104@http://www.cumbrestoltec.org/
DTSTAMP:20260423T190410Z
DESCRIPTION:
DTSTART:20160530T000000Z
SUMMARY:2016 Work Session B
URL:https://www.cumbrestoltec.org/calendar/18-friends-of-the-c-ts-rr-calend
 ar/20-work-sessions/356-2016-work-session-b.html
END:VEVENT
BEGIN:VEVENT
UID:20160528T100000UTC-0dd39f@http://www.cumbrestoltec.org/
DTSTAMP:20260423T190410Z
DESCRIPTION:<p>2016 Train Season</p>\n<p>Visit <a href='http://www.cumbrest
 oltec.com'>www.cumbrestoltec.com</a>&nbsp\;for information and tickets</p>
DTSTART:20160530T100000Z
DTEND:20160530T110000Z
SUMMARY:Train Season
URL:https://www.cumbrestoltec.org/calendar/18-friends-of-the-c-ts-rr-calend
 ar/22-railroad-events/448-train-season.html
END:VEVENT
BEGIN:VEVENT
UID:20160530T180000UTC-d7f104@http://www.cumbrestoltec.org/
DTSTAMP:20260423T190410Z
DESCRIPTION:
DTSTART:20160531T000000Z
SUMMARY:2016 Work Session B
URL:https://www.cumbrestoltec.org/calendar/18-friends-of-the-c-ts-rr-calend
 ar/20-work-sessions/366-2016-work-session-b.html
END:VEVENT
BEGIN:VEVENT
UID:20160528T100000UTC-0dd39f@http://www.cumbrestoltec.org/
DTSTAMP:20260423T190410Z
DESCRIPTION:<p>2016 Train Season</p>\n<p>Visit <a href='http://www.cumbrest
 oltec.com'>www.cumbrestoltec.com</a>&nbsp\;for information and tickets</p>
DTSTART:20160531T100000Z
DTEND:20160531T110000Z
SUMMARY:Train Season
URL:https://www.cumbrestoltec.org/calendar/18-friends-of-the-c-ts-rr-calend
 ar/22-railroad-events/449-train-season.html
END:VEVENT
BEGIN:VEVENT
UID:20160530T180000UTC-d7f104@http://www.cumbrestoltec.org/
DTSTAMP:20260423T190410Z
DESCRIPTION:
DTSTART:20160601T000000Z
SUMMARY:2016 Work Session B
URL:https://www.cumbrestoltec.org/calendar/18-friends-of-the-c-ts-rr-calend
 ar/20-work-sessions/367-2016-work-session-b.html
END:VEVENT
BEGIN:VEVENT
UID:20160528T100000UTC-0dd39f@http://www.cumbrestoltec.org/
DTSTAMP:20260423T190410Z
DESCRIPTION:<p>2016 Train Season</p>\n<p>Visit <a href='http://www.cumbrest
 oltec.com'>www.cumbrestoltec.com</a>&nbsp\;for information and tickets</p>
DTSTART:20160601T100000Z
DTEND:20160601T110000Z
SUMMARY:Train Season
URL:https://www.cumbrestoltec.org/calendar/18-friends-of-the-c-ts-rr-calend
 ar/22-railroad-events/450-train-season.html
END:VEVENT
END:VCALENDAR
