BEGIN:VCALENDAR
VERSION:2.0
PRODID:-//https://www.cumbrestoltec.org//NONSGML kigkonsult.se iCalcreator 
 2.16.12//
METHOD:PUBLISH
X-WR-CALNAME:JCal Pro Calendar
X-WR-CALDESC:Your online events calendar
X-WR-TIMEZONE:UTC
BEGIN:VEVENT
UID:20160627T080000UTC-313d70@http://www.cumbrestoltec.org/
DTSTAMP:20260423T203556Z
DESCRIPTION:
DTSTART:20160701T080000Z
DTEND:20160701T090000Z
SUMMARY:2016 Work Session D
URL:https://www.cumbrestoltec.org/calendar/18-friends-of-the-c-ts-rr-calend
 ar/20-work-sessions/374-2016-work-session-d.html
END:VEVENT
BEGIN:VEVENT
UID:20160528T100000UTC-0dd39f@http://www.cumbrestoltec.org/
DTSTAMP:20260423T203556Z
DESCRIPTION:<p>2016 Train Season</p>\n<p>Visit <a href='http://www.cumbrest
 oltec.com'>www.cumbrestoltec.com</a>&nbsp\;for information and tickets</p>
DTSTART:20160701T100000Z
DTEND:20160701T110000Z
SUMMARY:Train Season
URL:https://www.cumbrestoltec.org/calendar/18-friends-of-the-c-ts-rr-calend
 ar/22-railroad-events/480-train-season.html
END:VEVENT
BEGIN:VEVENT
UID:20160528T100000UTC-0dd39f@http://www.cumbrestoltec.org/
DTSTAMP:20260423T203556Z
DESCRIPTION:<p>2016 Train Season</p>\n<p>Visit <a href='http://www.cumbrest
 oltec.com'>www.cumbrestoltec.com</a>&nbsp\;for information and tickets</p>
DTSTART:20160702T100000Z
DTEND:20160702T110000Z
SUMMARY:Train Season
URL:https://www.cumbrestoltec.org/calendar/18-friends-of-the-c-ts-rr-calend
 ar/22-railroad-events/481-train-season.html
END:VEVENT
BEGIN:VEVENT
UID:20160528T100000UTC-0dd39f@http://www.cumbrestoltec.org/
DTSTAMP:20260423T203556Z
DESCRIPTION:<p>2016 Train Season</p>\n<p>Visit <a href='http://www.cumbrest
 oltec.com'>www.cumbrestoltec.com</a>&nbsp\;for information and tickets</p>
DTSTART:20160703T100000Z
DTEND:20160703T110000Z
SUMMARY:Train Season
URL:https://www.cumbrestoltec.org/calendar/18-friends-of-the-c-ts-rr-calend
 ar/22-railroad-events/482-train-season.html
END:VEVENT
BEGIN:VEVENT
UID:20160528T100000UTC-0dd39f@http://www.cumbrestoltec.org/
DTSTAMP:20260423T203556Z
DESCRIPTION:<p>2016 Train Season</p>\n<p>Visit <a href='http://www.cumbrest
 oltec.com'>www.cumbrestoltec.com</a>&nbsp\;for information and tickets</p>
DTSTART:20160704T100000Z
DTEND:20160704T110000Z
SUMMARY:Train Season
URL:https://www.cumbrestoltec.org/calendar/18-friends-of-the-c-ts-rr-calend
 ar/22-railroad-events/483-train-season.html
END:VEVENT
BEGIN:VEVENT
UID:20160528T100000UTC-0dd39f@http://www.cumbrestoltec.org/
DTSTAMP:20260423T203556Z
DESCRIPTION:<p>2016 Train Season</p>\n<p>Visit <a href='http://www.cumbrest
 oltec.com'>www.cumbrestoltec.com</a>&nbsp\;for information and tickets</p>
DTSTART:20160705T100000Z
DTEND:20160705T110000Z
SUMMARY:Train Season
URL:https://www.cumbrestoltec.org/calendar/18-friends-of-the-c-ts-rr-calend
 ar/22-railroad-events/484-train-season.html
END:VEVENT
BEGIN:VEVENT
UID:20160528T100000UTC-0dd39f@http://www.cumbrestoltec.org/
DTSTAMP:20260423T203556Z
DESCRIPTION:<p>2016 Train Season</p>\n<p>Visit <a href='http://www.cumbrest
 oltec.com'>www.cumbrestoltec.com</a>&nbsp\;for information and tickets</p>
DTSTART:20160706T100000Z
DTEND:20160706T110000Z
SUMMARY:Train Season
URL:https://www.cumbrestoltec.org/calendar/18-friends-of-the-c-ts-rr-calend
 ar/22-railroad-events/485-train-season.html
END:VEVENT
BEGIN:VEVENT
UID:20160528T100000UTC-0dd39f@http://www.cumbrestoltec.org/
DTSTAMP:20260423T203556Z
DESCRIPTION:<p>2016 Train Season</p>\n<p>Visit <a href='http://www.cumbrest
 oltec.com'>www.cumbrestoltec.com</a>&nbsp\;for information and tickets</p>
DTSTART:20160707T100000Z
DTEND:20160707T110000Z
SUMMARY:Train Season
URL:https://www.cumbrestoltec.org/calendar/18-friends-of-the-c-ts-rr-calend
 ar/22-railroad-events/486-train-season.html
END:VEVENT
BEGIN:VEVENT
UID:20160528T100000UTC-0dd39f@http://www.cumbrestoltec.org/
DTSTAMP:20260423T203556Z
DESCRIPTION:<p>2016 Train Season</p>\n<p>Visit <a href='http://www.cumbrest
 oltec.com'>www.cumbrestoltec.com</a>&nbsp\;for information and tickets</p>
DTSTART:20160708T100000Z
DTEND:20160708T110000Z
SUMMARY:Train Season
URL:https://www.cumbrestoltec.org/calendar/18-friends-of-the-c-ts-rr-calend
 ar/22-railroad-events/487-train-season.html
END:VEVENT
BEGIN:VEVENT
UID:20160528T100000UTC-0dd39f@http://www.cumbrestoltec.org/
DTSTAMP:20260423T203556Z
DESCRIPTION:<p>2016 Train Season</p>\n<p>Visit <a href='http://www.cumbrest
 oltec.com'>www.cumbrestoltec.com</a>&nbsp\;for information and tickets</p>
DTSTART:20160709T100000Z
DTEND:20160709T110000Z
SUMMARY:Train Season
URL:https://www.cumbrestoltec.org/calendar/18-friends-of-the-c-ts-rr-calend
 ar/22-railroad-events/488-train-season.html
END:VEVENT
BEGIN:VEVENT
UID:20160528T100000UTC-0dd39f@http://www.cumbrestoltec.org/
DTSTAMP:20260423T203556Z
DESCRIPTION:<p>2016 Train Season</p>\n<p>Visit <a href='http://www.cumbrest
 oltec.com'>www.cumbrestoltec.com</a>&nbsp\;for information and tickets</p>
DTSTART:20160710T100000Z
DTEND:20160710T110000Z
SUMMARY:Train Season
URL:https://www.cumbrestoltec.org/calendar/18-friends-of-the-c-ts-rr-calend
 ar/22-railroad-events/489-train-season.html
END:VEVENT
BEGIN:VEVENT
UID:20160528T100000UTC-0dd39f@http://www.cumbrestoltec.org/
DTSTAMP:20260423T203556Z
DESCRIPTION:<p>2016 Train Season</p>\n<p>Visit <a href='http://www.cumbrest
 oltec.com'>www.cumbrestoltec.com</a>&nbsp\;for information and tickets</p>
DTSTART:20160711T100000Z
DTEND:20160711T110000Z
SUMMARY:Train Season
URL:https://www.cumbrestoltec.org/calendar/18-friends-of-the-c-ts-rr-calend
 ar/22-railroad-events/490-train-season.html
END:VEVENT
BEGIN:VEVENT
UID:20160528T100000UTC-0dd39f@http://www.cumbrestoltec.org/
DTSTAMP:20260423T203556Z
DESCRIPTION:<p>2016 Train Season</p>\n<p>Visit <a href='http://www.cumbrest
 oltec.com'>www.cumbrestoltec.com</a>&nbsp\;for information and tickets</p>
DTSTART:20160712T100000Z
DTEND:20160712T110000Z
SUMMARY:Train Season
URL:https://www.cumbrestoltec.org/calendar/18-friends-of-the-c-ts-rr-calend
 ar/22-railroad-events/491-train-season.html
END:VEVENT
BEGIN:VEVENT
UID:20160528T100000UTC-0dd39f@http://www.cumbrestoltec.org/
DTSTAMP:20260423T203556Z
DESCRIPTION:<p>2016 Train Season</p>\n<p>Visit <a href='http://www.cumbrest
 oltec.com'>www.cumbrestoltec.com</a>&nbsp\;for information and tickets</p>
DTSTART:20160713T100000Z
DTEND:20160713T110000Z
SUMMARY:Train Season
URL:https://www.cumbrestoltec.org/calendar/18-friends-of-the-c-ts-rr-calend
 ar/22-railroad-events/492-train-season.html
END:VEVENT
BEGIN:VEVENT
UID:20160528T100000UTC-0dd39f@http://www.cumbrestoltec.org/
DTSTAMP:20260423T203556Z
DESCRIPTION:<p>2016 Train Season</p>\n<p>Visit <a href='http://www.cumbrest
 oltec.com'>www.cumbrestoltec.com</a>&nbsp\;for information and tickets</p>
DTSTART:20160714T100000Z
DTEND:20160714T110000Z
SUMMARY:Train Season
URL:https://www.cumbrestoltec.org/calendar/18-friends-of-the-c-ts-rr-calend
 ar/22-railroad-events/493-train-season.html
END:VEVENT
BEGIN:VEVENT
UID:20160528T100000UTC-0dd39f@http://www.cumbrestoltec.org/
DTSTAMP:20260423T203556Z
DESCRIPTION:<p>2016 Train Season</p>\n<p>Visit <a href='http://www.cumbrest
 oltec.com'>www.cumbrestoltec.com</a>&nbsp\;for information and tickets</p>
DTSTART:20160715T100000Z
DTEND:20160715T110000Z
SUMMARY:Train Season
URL:https://www.cumbrestoltec.org/calendar/18-friends-of-the-c-ts-rr-calend
 ar/22-railroad-events/494-train-season.html
END:VEVENT
BEGIN:VEVENT
UID:20160715T164500UTC-cbdc0f@http://www.cumbrestoltec.org/
DTSTAMP:20260423T203556Z
DESCRIPTION:<p style='font-size: 12px\; line-height: 18px\; margin: 2px 0px
 \; font-family: Helvetica\, Arial\, sans-serif\; background-color: #f4f4f4
 \;'>Departs from Chama 5:00 pm<br />Arrives in Cumbres&nbsp\;&nbsp\;&nbsp\
 ; 6:30 pm<br />Departs Cumbres&nbsp\;&nbsp\;&nbsp\;&nbsp\;&nbsp\;&nbsp\;6:
 40 pm<br />Arrives in Osier&nbsp\;&nbsp\;&nbsp\;&nbsp\;&nbsp\;&nbsp\;&nbsp
 \;&nbsp\;&nbsp\; 7:15 pm<br />Dinner in Osier (Inculded in ticket price)<b
 r />Departs Osier&nbsp\;&nbsp\;&nbsp\;&nbsp\;&nbsp\;&nbsp\;&nbsp\;&nbsp\;&
 nbsp\;&nbsp\;&nbsp\;&nbsp\; 9:00 pm<br />Arrives in Cumbres&nbsp\;&nbsp\;&
 nbsp\;&nbsp\;10:00 pm<br />Returns to Chama&nbsp\;&nbsp\;&nbsp\;&nbsp\;&nb
 sp\;&nbsp\;11:30 - well satisfied</p>\n<p style='font-size: 12px\; line-he
 ight: 18px\; margin: 2px 0px\; font-family: Helvetica\, Arial\, sans-serif
 \; background-color: #f4f4f4\;'>Times are approximate - Actual times are s
 ubject to the vagaries of historic equipment and operating conditions.</p>
 \n<p style='font-size: 12px\; line-height: 18px\; margin: 2px 0px\; font-f
 amily: Helvetica\, Arial\, sans-serif\; background-color: #f4f4f4\;'>Ticke
 t Prices include dinner:</p>\n<p style='font-size: 12px\; line-height: 18p
 x\; margin: 2px 0px\; font-family: Helvetica\, Arial\, sans-serif\; backgr
 ound-color: #f4f4f4\;'>Parlor Car&nbsp\;&nbsp\; $150.00</p>\n<p style='fon
 t-size: 12px\; line-height: 18px\; margin: 2px 0px\; font-family: Helvetic
 a\, Arial\, sans-serif\; background-color: #f4f4f4\;'>Tourist Class&nbsp\;
  $120.00</p>\n<p style='font-size: 12px\; line-height: 18px\; margin: 2px 
 0px\; font-family: Helvetica\, Arial\, sans-serif\; background-color: #f4f
 4f4\;'>Coach Seating: $99.00<br />Friends Members $89.00</p>\n<p style='fo
 nt-size: 12px\; line-height: 18px\; margin: 2px 0px\; font-family: Helveti
 ca\, Arial\, sans-serif\; background-color: #f4f4f4\;'>Children 12 and und
 er: $65.00<br />Friends Members $55.00&nbsp\;&nbsp\;&nbsp\;&nbsp\;&nbsp\;<
 /p>\n<p style='font-size: 12px\; line-height: 18px\; margin: 2px 0px\; fon
 t-family: Helvetica\, Arial\, sans-serif\; background-color: #f4f4f4\;'>No
  discounts for Parlor Car or Tourist Class seating.</p>
DTSTART:20160715T164500Z
DTEND:20160715T174500Z
SUMMARY:2016 Moonlight Train
URL:https://www.cumbrestoltec.org/calendar/18-friends-of-the-c-ts-rr-calend
 ar/19-friends-events/399-moonlight-train.html
END:VEVENT
BEGIN:VEVENT
UID:20160528T100000UTC-0dd39f@http://www.cumbrestoltec.org/
DTSTAMP:20260423T203556Z
DESCRIPTION:<p>2016 Train Season</p>\n<p>Visit <a href='http://www.cumbrest
 oltec.com'>www.cumbrestoltec.com</a>&nbsp\;for information and tickets</p>
DTSTART:20160716T100000Z
DTEND:20160716T110000Z
SUMMARY:Train Season
URL:https://www.cumbrestoltec.org/calendar/18-friends-of-the-c-ts-rr-calend
 ar/22-railroad-events/495-train-season.html
END:VEVENT
BEGIN:VEVENT
UID:20160528T100000UTC-0dd39f@http://www.cumbrestoltec.org/
DTSTAMP:20260423T203556Z
DESCRIPTION:<p>2016 Train Season</p>\n<p>Visit <a href='http://www.cumbrest
 oltec.com'>www.cumbrestoltec.com</a>&nbsp\;for information and tickets</p>
DTSTART:20160717T100000Z
DTEND:20160717T110000Z
SUMMARY:Train Season
URL:https://www.cumbrestoltec.org/calendar/18-friends-of-the-c-ts-rr-calend
 ar/22-railroad-events/496-train-season.html
END:VEVENT
BEGIN:VEVENT
UID:20160528T100000UTC-0dd39f@http://www.cumbrestoltec.org/
DTSTAMP:20260423T203556Z
DESCRIPTION:<p>2016 Train Season</p>\n<p>Visit <a href='http://www.cumbrest
 oltec.com'>www.cumbrestoltec.com</a>&nbsp\;for information and tickets</p>
DTSTART:20160718T100000Z
DTEND:20160718T110000Z
SUMMARY:Train Season
URL:https://www.cumbrestoltec.org/calendar/18-friends-of-the-c-ts-rr-calend
 ar/22-railroad-events/497-train-season.html
END:VEVENT
BEGIN:VEVENT
UID:20160528T100000UTC-0dd39f@http://www.cumbrestoltec.org/
DTSTAMP:20260423T203556Z
DESCRIPTION:<p>2016 Train Season</p>\n<p>Visit <a href='http://www.cumbrest
 oltec.com'>www.cumbrestoltec.com</a>&nbsp\;for information and tickets</p>
DTSTART:20160719T100000Z
DTEND:20160719T110000Z
SUMMARY:Train Season
URL:https://www.cumbrestoltec.org/calendar/18-friends-of-the-c-ts-rr-calend
 ar/22-railroad-events/498-train-season.html
END:VEVENT
BEGIN:VEVENT
UID:20160528T100000UTC-0dd39f@http://www.cumbrestoltec.org/
DTSTAMP:20260423T203556Z
DESCRIPTION:<p>2016 Train Season</p>\n<p>Visit <a href='http://www.cumbrest
 oltec.com'>www.cumbrestoltec.com</a>&nbsp\;for information and tickets</p>
DTSTART:20160720T100000Z
DTEND:20160720T110000Z
SUMMARY:Train Season
URL:https://www.cumbrestoltec.org/calendar/18-friends-of-the-c-ts-rr-calend
 ar/22-railroad-events/499-train-season.html
END:VEVENT
BEGIN:VEVENT
UID:20160528T100000UTC-0dd39f@http://www.cumbrestoltec.org/
DTSTAMP:20260423T203556Z
DESCRIPTION:<p>2016 Train Season</p>\n<p>Visit <a href='http://www.cumbrest
 oltec.com'>www.cumbrestoltec.com</a>&nbsp\;for information and tickets</p>
DTSTART:20160721T100000Z
DTEND:20160721T110000Z
SUMMARY:Train Season
URL:https://www.cumbrestoltec.org/calendar/18-friends-of-the-c-ts-rr-calend
 ar/22-railroad-events/500-train-season.html
END:VEVENT
BEGIN:VEVENT
UID:20160528T100000UTC-0dd39f@http://www.cumbrestoltec.org/
DTSTAMP:20260423T203556Z
DESCRIPTION:<p>2016 Train Season</p>\n<p>Visit <a href='http://www.cumbrest
 oltec.com'>www.cumbrestoltec.com</a>&nbsp\;for information and tickets</p>
DTSTART:20160722T100000Z
DTEND:20160722T110000Z
SUMMARY:Train Season
URL:https://www.cumbrestoltec.org/calendar/18-friends-of-the-c-ts-rr-calend
 ar/22-railroad-events/501-train-season.html
END:VEVENT
BEGIN:VEVENT
UID:20160528T100000UTC-0dd39f@http://www.cumbrestoltec.org/
DTSTAMP:20260423T203556Z
DESCRIPTION:<p>2016 Train Season</p>\n<p>Visit <a href='http://www.cumbrest
 oltec.com'>www.cumbrestoltec.com</a>&nbsp\;for information and tickets</p>
DTSTART:20160723T100000Z
DTEND:20160723T110000Z
SUMMARY:Train Season
URL:https://www.cumbrestoltec.org/calendar/18-friends-of-the-c-ts-rr-calend
 ar/22-railroad-events/502-train-season.html
END:VEVENT
BEGIN:VEVENT
UID:20160528T100000UTC-0dd39f@http://www.cumbrestoltec.org/
DTSTAMP:20260423T203556Z
DESCRIPTION:<p>2016 Train Season</p>\n<p>Visit <a href='http://www.cumbrest
 oltec.com'>www.cumbrestoltec.com</a>&nbsp\;for information and tickets</p>
DTSTART:20160724T100000Z
DTEND:20160724T110000Z
SUMMARY:Train Season
URL:https://www.cumbrestoltec.org/calendar/18-friends-of-the-c-ts-rr-calend
 ar/22-railroad-events/503-train-season.html
END:VEVENT
BEGIN:VEVENT
UID:20160725T080000UTC-bb71fe@http://www.cumbrestoltec.org/
DTSTAMP:20260423T203556Z
DESCRIPTION:
DTSTART:20160725T080000Z
DTEND:20160725T090000Z
SUMMARY:2016 Work Session E
URL:https://www.cumbrestoltec.org/calendar/18-friends-of-the-c-ts-rr-calend
 ar/20-work-sessions/380-2016-work-session-e.html
END:VEVENT
BEGIN:VEVENT
UID:20160528T100000UTC-0dd39f@http://www.cumbrestoltec.org/
DTSTAMP:20260423T203556Z
DESCRIPTION:<p>2016 Train Season</p>\n<p>Visit <a href='http://www.cumbrest
 oltec.com'>www.cumbrestoltec.com</a>&nbsp\;for information and tickets</p>
DTSTART:20160725T100000Z
DTEND:20160725T110000Z
SUMMARY:Train Season
URL:https://www.cumbrestoltec.org/calendar/18-friends-of-the-c-ts-rr-calend
 ar/22-railroad-events/504-train-season.html
END:VEVENT
BEGIN:VEVENT
UID:20160725T080000UTC-bb71fe@http://www.cumbrestoltec.org/
DTSTAMP:20260423T203556Z
DESCRIPTION:
DTSTART:20160726T080000Z
DTEND:20160726T090000Z
SUMMARY:2016 Work Session E
URL:https://www.cumbrestoltec.org/calendar/18-friends-of-the-c-ts-rr-calend
 ar/20-work-sessions/381-2016-work-session-e.html
END:VEVENT
BEGIN:VEVENT
UID:20160528T100000UTC-0dd39f@http://www.cumbrestoltec.org/
DTSTAMP:20260423T203556Z
DESCRIPTION:<p>2016 Train Season</p>\n<p>Visit <a href='http://www.cumbrest
 oltec.com'>www.cumbrestoltec.com</a>&nbsp\;for information and tickets</p>
DTSTART:20160726T100000Z
DTEND:20160726T110000Z
SUMMARY:Train Season
URL:https://www.cumbrestoltec.org/calendar/18-friends-of-the-c-ts-rr-calend
 ar/22-railroad-events/505-train-season.html
END:VEVENT
BEGIN:VEVENT
UID:20160725T080000UTC-bb71fe@http://www.cumbrestoltec.org/
DTSTAMP:20260423T203556Z
DESCRIPTION:
DTSTART:20160727T080000Z
DTEND:20160727T090000Z
SUMMARY:2016 Work Session E
URL:https://www.cumbrestoltec.org/calendar/18-friends-of-the-c-ts-rr-calend
 ar/20-work-sessions/382-2016-work-session-e.html
END:VEVENT
BEGIN:VEVENT
UID:20160528T100000UTC-0dd39f@http://www.cumbrestoltec.org/
DTSTAMP:20260423T203556Z
DESCRIPTION:<p>2016 Train Season</p>\n<p>Visit <a href='http://www.cumbrest
 oltec.com'>www.cumbrestoltec.com</a>&nbsp\;for information and tickets</p>
DTSTART:20160727T100000Z
DTEND:20160727T110000Z
SUMMARY:Train Season
URL:https://www.cumbrestoltec.org/calendar/18-friends-of-the-c-ts-rr-calend
 ar/22-railroad-events/506-train-season.html
END:VEVENT
BEGIN:VEVENT
UID:20160725T080000UTC-bb71fe@http://www.cumbrestoltec.org/
DTSTAMP:20260423T203556Z
DESCRIPTION:
DTSTART:20160728T080000Z
DTEND:20160728T090000Z
SUMMARY:2016 Work Session E
URL:https://www.cumbrestoltec.org/calendar/18-friends-of-the-c-ts-rr-calend
 ar/20-work-sessions/383-2016-work-session-e.html
END:VEVENT
BEGIN:VEVENT
UID:20160528T100000UTC-0dd39f@http://www.cumbrestoltec.org/
DTSTAMP:20260423T203556Z
DESCRIPTION:<p>2016 Train Season</p>\n<p>Visit <a href='http://www.cumbrest
 oltec.com'>www.cumbrestoltec.com</a>&nbsp\;for information and tickets</p>
DTSTART:20160728T100000Z
DTEND:20160728T110000Z
SUMMARY:Train Season
URL:https://www.cumbrestoltec.org/calendar/18-friends-of-the-c-ts-rr-calend
 ar/22-railroad-events/507-train-season.html
END:VEVENT
BEGIN:VEVENT
UID:20160725T080000UTC-bb71fe@http://www.cumbrestoltec.org/
DTSTAMP:20260423T203556Z
DESCRIPTION:
DTSTART:20160729T080000Z
DTEND:20160729T090000Z
SUMMARY:2016 Work Session E
URL:https://www.cumbrestoltec.org/calendar/18-friends-of-the-c-ts-rr-calend
 ar/20-work-sessions/384-2016-work-session-e.html
END:VEVENT
BEGIN:VEVENT
UID:20160528T100000UTC-0dd39f@http://www.cumbrestoltec.org/
DTSTAMP:20260423T203556Z
DESCRIPTION:<p>2016 Train Season</p>\n<p>Visit <a href='http://www.cumbrest
 oltec.com'>www.cumbrestoltec.com</a>&nbsp\;for information and tickets</p>
DTSTART:20160729T100000Z
DTEND:20160729T110000Z
SUMMARY:Train Season
URL:https://www.cumbrestoltec.org/calendar/18-friends-of-the-c-ts-rr-calend
 ar/22-railroad-events/508-train-season.html
END:VEVENT
BEGIN:VEVENT
UID:20160528T100000UTC-0dd39f@http://www.cumbrestoltec.org/
DTSTAMP:20260423T203556Z
DESCRIPTION:<p>2016 Train Season</p>\n<p>Visit <a href='http://www.cumbrest
 oltec.com'>www.cumbrestoltec.com</a>&nbsp\;for information and tickets</p>
DTSTART:20160730T100000Z
DTEND:20160730T110000Z
SUMMARY:Train Season
URL:https://www.cumbrestoltec.org/calendar/18-friends-of-the-c-ts-rr-calend
 ar/22-railroad-events/509-train-season.html
END:VEVENT
BEGIN:VEVENT
UID:20160528T100000UTC-0dd39f@http://www.cumbrestoltec.org/
DTSTAMP:20260423T203556Z
DESCRIPTION:<p>2016 Train Season</p>\n<p>Visit <a href='http://www.cumbrest
 oltec.com'>www.cumbrestoltec.com</a>&nbsp\;for information and tickets</p>
DTSTART:20160731T100000Z
DTEND:20160731T110000Z
SUMMARY:Train Season
URL:https://www.cumbrestoltec.org/calendar/18-friends-of-the-c-ts-rr-calend
 ar/22-railroad-events/510-train-season.html
END:VEVENT
BEGIN:VEVENT
UID:20160801T080000UTC-4404f1@http://www.cumbrestoltec.org/
DTSTAMP:20260423T203556Z
DESCRIPTION:
DTSTART:20160801T080000Z
DTEND:20160801T090000Z
SUMMARY:2016 Work Session F
URL:https://www.cumbrestoltec.org/calendar/18-friends-of-the-c-ts-rr-calend
 ar/20-work-sessions/385-2016-work-session-f.html
END:VEVENT
BEGIN:VEVENT
UID:20160528T100000UTC-0dd39f@http://www.cumbrestoltec.org/
DTSTAMP:20260423T203556Z
DESCRIPTION:<p>2016 Train Season</p>\n<p>Visit <a href='http://www.cumbrest
 oltec.com'>www.cumbrestoltec.com</a>&nbsp\;for information and tickets</p>
DTSTART:20160801T100000Z
DTEND:20160801T110000Z
SUMMARY:Train Season
URL:https://www.cumbrestoltec.org/calendar/18-friends-of-the-c-ts-rr-calend
 ar/22-railroad-events/511-train-season.html
END:VEVENT
END:VCALENDAR
