BEGIN:VCALENDAR
VERSION:2.0
PRODID:-//https://www.cumbrestoltec.org//NONSGML kigkonsult.se iCalcreator 
 2.16.12//
METHOD:PUBLISH
X-WR-CALNAME:JCal Pro Calendar
X-WR-CALDESC:Your online events calendar
X-WR-TIMEZONE:UTC
BEGIN:VEVENT
UID:20170724T080000UTC-4dbc3e@http://www.cumbrestoltec.org/
DTSTAMP:20260424T154605Z
DESCRIPTION:<p>2017 Work Session E</p>
DTSTART:20170724T000000Z
SUMMARY:2017 Work Session E
URL:https://www.cumbrestoltec.org/calendar/18-friends-of-the-c-ts-rr-calend
 ar/20-work-sessions/625-2017-work-session-e.html
END:VEVENT
BEGIN:VEVENT
UID:20170724T080000UTC-4dbc3e@http://www.cumbrestoltec.org/
DTSTAMP:20260424T154605Z
DESCRIPTION:<p>2017 Work Session E</p>
DTSTART:20170725T000000Z
SUMMARY:2017 Work Session E
URL:https://www.cumbrestoltec.org/calendar/18-friends-of-the-c-ts-rr-calend
 ar/20-work-sessions/657-2017-work-session-e.html
END:VEVENT
BEGIN:VEVENT
UID:20170724T080000UTC-4dbc3e@http://www.cumbrestoltec.org/
DTSTAMP:20260424T154605Z
DESCRIPTION:<p>2017 Work Session E</p>
DTSTART:20170726T000000Z
SUMMARY:2017 Work Session E
URL:https://www.cumbrestoltec.org/calendar/18-friends-of-the-c-ts-rr-calend
 ar/20-work-sessions/658-2017-work-session-e.html
END:VEVENT
BEGIN:VEVENT
UID:20170724T080000UTC-4dbc3e@http://www.cumbrestoltec.org/
DTSTAMP:20260424T154605Z
DESCRIPTION:<p>2017 Work Session E</p>
DTSTART:20170727T000000Z
SUMMARY:2017 Work Session E
URL:https://www.cumbrestoltec.org/calendar/18-friends-of-the-c-ts-rr-calend
 ar/20-work-sessions/659-2017-work-session-e.html
END:VEVENT
BEGIN:VEVENT
UID:20170724T080000UTC-4dbc3e@http://www.cumbrestoltec.org/
DTSTAMP:20260424T154605Z
DESCRIPTION:<p>2017 Work Session E</p>
DTSTART:20170728T000000Z
SUMMARY:2017 Work Session E
URL:https://www.cumbrestoltec.org/calendar/18-friends-of-the-c-ts-rr-calend
 ar/20-work-sessions/660-2017-work-session-e.html
END:VEVENT
BEGIN:VEVENT
UID:20170731T080000UTC-72fbaa@http://www.cumbrestoltec.org/
DTSTAMP:20260424T154605Z
DESCRIPTION:<p>Work Session F</p>
DTSTART:20170731T000000Z
SUMMARY:2017 Work Session F
URL:https://www.cumbrestoltec.org/calendar/18-friends-of-the-c-ts-rr-calend
 ar/20-work-sessions/630-2017-work-session-f.html
END:VEVENT
BEGIN:VEVENT
UID:20170731T080000UTC-72fbaa@http://www.cumbrestoltec.org/
DTSTAMP:20260424T154605Z
DESCRIPTION:<p>Work Session F</p>
DTSTART:20170801T000000Z
SUMMARY:2017 Work Session F
URL:https://www.cumbrestoltec.org/calendar/18-friends-of-the-c-ts-rr-calend
 ar/20-work-sessions/661-2017-work-session-f.html
END:VEVENT
END:VCALENDAR
