BEGIN:VCALENDAR
VERSION:2.0
PRODID:-//https://www.cumbrestoltec.org//NONSGML kigkonsult.se iCalcreator 
 2.16.12//
METHOD:PUBLISH
X-WR-CALNAME:JCal Pro Calendar
X-WR-CALDESC:Your online events calendar
X-WR-TIMEZONE:UTC
BEGIN:VEVENT
UID:0602b74c472f0a069ee4eb3347d7f41dhttp://cumbres.johnsongroups.com/admini
 strator
DTSTAMP:20260423T155848Z
DESCRIPTION:
DTSTART;TZID=America/Denver:20101023T083000
DTEND;TZID=America/Denver:20101023T113000
SUMMARY:BOD Meeting
URL:https://www.cumbrestoltec.org/calendar/18-friends-of-the-c-ts-rr-calend
 ar/19-friends-events/21-bod-meeting.html
END:VEVENT
BEGIN:VEVENT
UID:690ac7b5d7dc168af1080760f37e06bfhttp://www.cumbrestoltec.org/administra
 tor
DTSTAMP:20260423T155848Z
DESCRIPTION:<p>Board of Directors Meetings</p>\n<p>Albuquerque - venue to b
 e determined.</p>
DTSTART;TZID=America/Denver:20110325T080000
DTEND;TZID=America/Denver:20110325T080000
SUMMARY:Spring Board of Directors Meeting
URL:https://www.cumbrestoltec.org/calendar/18-friends-of-the-c-ts-rr-calend
 ar/19-friends-events/22-spring-board-of-directors-meeting.html
END:VEVENT
BEGIN:VEVENT
UID:6d9975a5c5d8a6df7aa8960fadf483f3http://www.cumbrestoltec.org/administra
 tor
DTSTAMP:20260423T155848Z
DESCRIPTION:<p>Spring Membership Banquet</p>\n<p>Albuquerque - Hotel Parq C
 entral</p>\n<p>806 Central SE\, Albuquerque NM   87102</p>\n<p>505-242-004
 0</p>\n<p> </p>
DTSTART;TZID=America/Denver:20110325T180000
DTEND;TZID=America/Denver:20110325T190000
SUMMARY:2011 Spring Membership Banquet
URL:https://www.cumbrestoltec.org/calendar/18-friends-of-the-c-ts-rr-calend
 ar/19-friends-events/24-2011-spring-membership-banquet.html
END:VEVENT
BEGIN:VEVENT
UID:690ac7b5d7dc168af1080760f37e06bfhttp://www.cumbrestoltec.org/administra
 tor
DTSTAMP:20260423T155848Z
DESCRIPTION:<p>Board of Directors Meetings</p>\n<p>Albuquerque - venue to b
 e determined.</p>
DTSTART;TZID=America/Denver:20110326T080000
DTEND;TZID=America/Denver:20110326T080000
SUMMARY:Spring Board of Directors Meeting
URL:https://www.cumbrestoltec.org/calendar/18-friends-of-the-c-ts-rr-calend
 ar/19-friends-events/23-spring-board-of-directors-meeting.html
END:VEVENT
BEGIN:VEVENT
UID:b9e94e1ff3736e41b6c1ed15281e83a3http://www.cumbrestoltec.org/administra
 tor
DTSTAMP:20260423T155848Z
DESCRIPTION:Annual Meeting and Membership Dinner at Our lady of Guadalupe P
 arish Hall - Conejos\, CO.  Stephen Flowers will cater the meal.
DTSTART;TZID=America/Denver:20110617T180000
DTEND;TZID=America/Denver:20110617T210000
SUMMARY:Annual Meeting
URL:https://www.cumbrestoltec.org/calendar/18-friends-of-the-c-ts-rr-calend
 ar/19-friends-events/31-annual-meeting.html
END:VEVENT
BEGIN:VEVENT
UID:8f3d7f8776776530a02ab0784ca6d1behttp://www.cumbrestoltec.org/administra
 tor
DTSTAMP:20260423T155848Z
DESCRIPTION:<p>Our Lady of Guadalupe Parish Hall - Conejos\, CO.  Stephen F
 lowers will cater lunch.</p>
DTSTART;TZID=America/Denver:20110618T083000
DTEND;TZID=America/Denver:20110618T160000
SUMMARY:Board of Directors Meeting
URL:https://www.cumbrestoltec.org/calendar/18-friends-of-the-c-ts-rr-calend
 ar/19-friends-events/38-board-of-directors-meeting.html
END:VEVENT
BEGIN:VEVENT
UID:d9e1bd523c28500556ad0b9503ecf611http://www.cumbrestoltec.org/administra
 tor
DTSTAMP:20260423T155848Z
DESCRIPTION:Moonlight Train Scheduled
DTSTART;TZID=America/Denver:20110716T160000
DTEND;TZID=America/Denver:20110716T230000
SUMMARY:Moonlight Train
URL:https://www.cumbrestoltec.org/calendar/18-friends-of-the-c-ts-rr-calend
 ar/19-friends-events/47-moonlight-train.html
END:VEVENT
BEGIN:VEVENT
UID:1913e4ca7c94a18940c0cfe0248d69aehttp://www.cumbrestoltec.org/administra
 tor
DTSTAMP:20260423T155848Z
DESCRIPTION:Fall Board of Directors Meeting at the Colorado Railroad Museum
  in Golden\, CO.
DTSTART;TZID=America/Denver:20111021T083000
DTEND;TZID=America/Denver:20111021T160000
SUMMARY:Fall Board of Directors Meeting
URL:https://www.cumbrestoltec.org/calendar/18-friends-of-the-c-ts-rr-calend
 ar/19-friends-events/44-fall-board-of-directors-meeting.html
END:VEVENT
BEGIN:VEVENT
UID:bb9d8f84a10d48f6dcdb20fe49922379http://www.cumbrestoltec.org/administra
 tor
DTSTAMP:20260423T155848Z
DESCRIPTION:Fall Member Banquet at the Table Mountain Inn\, Golden\, Co.  (
 303)-277-9898.  A block of rooms has been set aside for us at $139/night.
DTSTART;TZID=America/Denver:20111021T180000
DTEND;TZID=America/Denver:20111021T210000
SUMMARY:2011 Fall Member Banquet
URL:https://www.cumbrestoltec.org/calendar/18-friends-of-the-c-ts-rr-calend
 ar/19-friends-events/46-2011-fall-member-banquet.html
END:VEVENT
BEGIN:VEVENT
UID:6f08819b8f673d08a10f83f465543a25http://www.cumbrestoltec.org/administra
 tor
DTSTAMP:20260423T155848Z
DESCRIPTION:We will have the opportunity to tour the Colorado Railroad Muse
 um in conjunction with our Board of Directors Meeting and Membership Banqu
 et.  Time and fees to be announced.
DTSTART;TZID=America/Denver:20111022T090000
DTEND;TZID=America/Denver:20111022T100000
SUMMARY:Membership Tour of Colorado Railroad Museum
URL:https://www.cumbrestoltec.org/calendar/18-friends-of-the-c-ts-rr-calend
 ar/19-friends-events/45-membership-tour-of-colorado-railroad-museum.html
END:VEVENT
BEGIN:VEVENT
UID:f1cffcbc868c40b00ad6d2cececb1529http://www.cumbrestoltec.org/administra
 tor
DTSTAMP:20260423T155848Z
DESCRIPTION:<p>Indian Pueblo Cultural Center  <cite>www.<strong>indianpuebl
 o</strong>.org<br />2401 12th St NW<br />Albuquerque\, NM  87104<br />12th
  Street between 1-40 and Menaul</cite></p>\n<p>$42 per person.  <br />Gues
 t Speaker: Al Harper of American Heritage Railway</p>\n<p> </p>\n<p> </p>
 \n<p> </p>\n<p> </p>
DTSTART;TZID=America/Denver:20120323T180000
DTEND;TZID=America/Denver:20120323T210000
SUMMARY:Spring 2012 Member Banquet
URL:https://www.cumbrestoltec.org/calendar/18-friends-of-the-c-ts-rr-calend
 ar/19-friends-events/82-spring-2012-member-banquet.html
END:VEVENT
BEGIN:VEVENT
UID:81ea7c63abaee26810605e020014354ehttp://www.cumbrestoltec.org/administra
 tor
DTSTAMP:20260423T155848Z
DESCRIPTION:<p>Holiday Inn Express and Suites<br />http://www.hiexpress.com
 /hotels/us/en/albuquerque/abqww/hoteldetail<br />2300 12th Street NW  (acr
 oss from the Indian Pueblo Cultural Center)</p>\n<p> </p>\n<p> </p>
DTSTART;TZID=America/Denver:20120324T083000
DTEND;TZID=America/Denver:20120324T143000
SUMMARY:Spring 2012 Board Meeting
URL:https://www.cumbrestoltec.org/calendar/18-friends-of-the-c-ts-rr-calend
 ar/19-friends-events/83-spring-2012-board-meeting.html
END:VEVENT
BEGIN:VEVENT
UID:81a90f359def8594bf0379839009782dhttp://www.cumbrestoltec.org/administra
 tor
DTSTAMP:20260423T155848Z
DESCRIPTION:<p>This special offering by the Friends of the Cumbres & Toltec
   Scenic Railroad\, Inc. will feature a 9:30am departure from Antonito on 
 a  one-way westbound trek to Chama.  Numerous photo runbys along the route
   will be planned.  A BBQ chicken lunch will be served at Osier and is  in
 cluded in the price of the ticket.  Each passenger will also receive a  co
 mmemorative 463 cap!  Reserve now as seats are limited!</p>\n<p>Date:     
       Tuesday May 15\, 2012</p>\n<p>Time:          9:30am Train Departs An
 tonito</p>\n<p>Fares:          $125 Coach Class</p>\n<p>Motorcoach transpo
 rtation between Chama and Antonito is included in  the fare.  For those st
 aying in Chama the motorcoach departs Chama at  8:00am\, arriving in Anton
 ito at 9:00am.  For people staying in Antonito  or Alamosa\, the motorcoac
 h departs Chama at 6:00pm and will arrive back  at the Antonito Depot at 7
 :00pm.</p>\n<strong>Locomotive 463 Night Photo Shoot is also available</st
 rong>: May  15\, 2012.  The 1st setup will be at the Chama Coal Tipple at 
 7:30 for  sunset light  shots. Then Michael Ripley will do his magic setti
 ng up  lights for  after-dark shots. The 2nd set up will be with 463 & a  
 K-36 in front  of the shop. The 3rd set up will be at the depot. There  wi
 ll be a  minimum of 2 photo line rotations at each set up so everybody  wi
 ll have  the opportunity for different angles at each location.\n<p><br />
  A tripod & shutter release is highly recommended.</p>\n<p>Price is $75. C
 all 505-880-1311 for your tickets.</p>
DTSTART;TZID=America/Denver:20120515T000000
SUMMARY:Locomotive 463 Charter Photo Shoot
URL:https://www.cumbrestoltec.org/calendar/18-friends-of-the-c-ts-rr-calend
 ar/19-friends-events/84-locomotive-463-charter-photo-shoot.html
END:VEVENT
BEGIN:VEVENT
UID:39bf1e783ff40d817ccddf2e93b91226http://www.cumbrestoltec.org/administra
 tor
DTSTAMP:20260423T155848Z
DESCRIPTION:<p>Membership Dinner and Meeting</p>\n<p>Location to be determi
 ned</p>
DTSTART;TZID=America/Denver:20120622T180000
DTEND;TZID=America/Denver:20120622T210000
SUMMARY:Membership Meeting
URL:https://www.cumbrestoltec.org/calendar/18-friends-of-the-c-ts-rr-calend
 ar/19-friends-events/79-membership-meeting.html
END:VEVENT
BEGIN:VEVENT
UID:854d149f38a9295ec47e4ef8c6ddabdahttp://www.cumbrestoltec.org/administra
 tor
DTSTAMP:20260423T155848Z
DESCRIPTION:Board of Directors Meeting - Location to be determined
DTSTART;TZID=America/Denver:20120623T000000
SUMMARY:Board of Directors Meeting
URL:https://www.cumbrestoltec.org/calendar/18-friends-of-the-c-ts-rr-calend
 ar/19-friends-events/80-board-of-directors-meeting.html
END:VEVENT
BEGIN:VEVENT
UID:a4d3918cccc0c802759e8b131c9a7a66http://www.cumbrestoltec.org/administra
 tor
DTSTAMP:20260423T155848Z
DESCRIPTION:<p>Moonlight Train</p>\n<p> </p>
DTSTART;TZID=America/Denver:20120630T174500
DTEND;TZID=America/Denver:20120630T234500
SUMMARY:Moonlight Train
URL:https://www.cumbrestoltec.org/calendar/18-friends-of-the-c-ts-rr-calend
 ar/19-friends-events/81-moonlight-train.html
END:VEVENT
BEGIN:VEVENT
UID:a1fda25b0a2e306c8062648043b428e9http://www.cumbrestoltec.org/administra
 tor
DTSTAMP:20260423T155848Z
DESCRIPTION:Fall Member Banquet - Colorado Springs
DTSTART;TZID=America/Denver:20121026T180000
DTEND;TZID=America/Denver:20121026T210000
SUMMARY:Fall 2012 Member Banquet
URL:https://www.cumbrestoltec.org/calendar/18-friends-of-the-c-ts-rr-calend
 ar/19-friends-events/86-fall-2012-member-banquet.html
END:VEVENT
BEGIN:VEVENT
UID:4b008d0913ce6d4c9ad54b2dcb21b84ahttp://www.cumbrestoltec.org/administra
 tor
DTSTAMP:20260423T155848Z
DESCRIPTION:<p>Fall Board Meeting - Colorado Springs</p>\n<p>Details to fol
 low</p>
DTSTART;TZID=America/Denver:20121027T083000
DTEND;TZID=America/Denver:20121027T143000
SUMMARY:Fall 2012 Board Meeting
URL:https://www.cumbrestoltec.org/calendar/18-friends-of-the-c-ts-rr-calend
 ar/19-friends-events/85-fall-2012-board-meeting.html
END:VEVENT
BEGIN:VEVENT
UID:a1ce3367091c77ef58ab1f2b4a350e95http://www.cumbrestoltec.org/administra
 tor
DTSTAMP:20260423T155848Z
DESCRIPTION:Summer Board Meeting
DTSTART;TZID=America/Denver:20130622T000000
SUMMARY:2013 Summer Board Meeting
URL:https://www.cumbrestoltec.org/calendar/18-friends-of-the-c-ts-rr-calend
 ar/19-friends-events/103-2013-summer-board-meeting.html
END:VEVENT
BEGIN:VEVENT
UID:1a0614b538047df35a001f8ea03153ffhttp://www.cumbrestoltec.org/administra
 tor
DTSTAMP:20260423T155848Z
DESCRIPTION:Moonlight Train
DTSTART;TZID=America/Denver:20130622T170000
DTEND;TZID=America/Denver:20130622T233000
SUMMARY:2013 Moonlight Train
URL:https://www.cumbrestoltec.org/calendar/18-friends-of-the-c-ts-rr-calend
 ar/19-friends-events/104-2013-moonlight-train.html
END:VEVENT
END:VCALENDAR
