BEGIN:VCALENDAR
VERSION:2.0
PRODID:-//https://www.cumbrestoltec.org//NONSGML kigkonsult.se iCalcreator 
 2.16.12//
METHOD:PUBLISH
X-WR-CALNAME:JCal Pro Calendar
X-WR-CALDESC:Your online events calendar
X-WR-TIMEZONE:UTC
BEGIN:VEVENT
UID:a1ce3367091c77ef58ab1f2b4a350e95http://www.cumbrestoltec.org/administra
 tor
DTSTAMP:20260423T173426Z
DESCRIPTION:Summer Board Meeting
DTSTART;TZID=America/Denver:20130622T000000
SUMMARY:2013 Summer Board Meeting
URL:https://www.cumbrestoltec.org/calendar/18-friends-of-the-c-ts-rr-calend
 ar/19-friends-events/103-2013-summer-board-meeting.html
END:VEVENT
END:VCALENDAR
