BEGIN:VCALENDAR
VERSION:2.0
PRODID:-//https://www.cumbrestoltec.org//NONSGML kigkonsult.se iCalcreator 
 2.16.12//
METHOD:PUBLISH
X-WR-CALNAME:JCal Pro Calendar
X-WR-CALDESC:Your online events calendar
X-WR-TIMEZONE:UTC
BEGIN:VEVENT
UID:1913e4ca7c94a18940c0cfe0248d69aehttp://www.cumbrestoltec.org/administra
 tor
DTSTAMP:20260423T173445Z
DESCRIPTION:Fall Board of Directors Meeting at the Colorado Railroad Museum
  in Golden\, CO.
DTSTART;TZID=America/Denver:20111021T083000
DTEND;TZID=America/Denver:20111021T160000
SUMMARY:Fall Board of Directors Meeting
URL:https://www.cumbrestoltec.org/calendar/18-friends-of-the-c-ts-rr-calend
 ar/19-friends-events/44-fall-board-of-directors-meeting.html
END:VEVENT
END:VCALENDAR
