BEGIN:VCALENDAR
VERSION:2.0
PRODID:-//https://www.cumbrestoltec.org//NONSGML kigkonsult.se iCalcreator 
 2.16.12//
METHOD:PUBLISH
X-WR-CALNAME:JCal Pro Calendar
X-WR-CALDESC:Your online events calendar
X-WR-TIMEZONE:UTC
BEGIN:VEVENT
UID:20170317T180000UTC-fda8d3@http://www.cumbrestoltec.org/
DTSTAMP:20260424T125834Z
DESCRIPTION:<p>2017 Spring Member Banquet.&nbsp\; TBD.&nbsp\; Watch NEWS fe
 ed for updates.</p>
DTSTART:20170317T180000Z
DTEND:20170317T190000Z
SUMMARY:2017 Spring Member Banquet
URL:https://www.cumbrestoltec.org/calendar/18-friends-of-the-c-ts-rr-calend
 ar/19-friends-events/624-2017-spring-member-banquet.html
END:VEVENT
END:VCALENDAR
