BEGIN:VCALENDAR
VERSION:2.0
PRODID:-//https://www.cumbrestoltec.org//NONSGML kigkonsult.se iCalcreator 
 2.16.12//
METHOD:PUBLISH
X-WR-CALNAME:JCal Pro Calendar
X-WR-CALDESC:Your online events calendar
X-WR-TIMEZONE:UTC
BEGIN:VEVENT
UID:a89ecb5b0e91dc37a304c1bcf2676c82http://www.cumbrestoltec.org/administra
 tor
DTSTAMP:20260423T205745Z
DESCRIPTION:Work Session D
DTSTART;TZID=America/Denver:20130628T000000
SUMMARY:2013 Work Session 'D'
URL:https://www.cumbrestoltec.org/calendar/18-friends-of-the-c-ts-rr-calend
 ar/20-work-sessions/109-2013-work-session-d.html
END:VEVENT
END:VCALENDAR
