BEGIN:VCALENDAR
VERSION:2.0
PRODID:-//https://www.cumbrestoltec.org//NONSGML kigkonsult.se iCalcreator 
 2.16.12//
METHOD:PUBLISH
X-WR-CALNAME:JCal Pro Calendar
X-WR-CALDESC:Your online events calendar
X-WR-TIMEZONE:UTC
BEGIN:VEVENT
UID:4e523a202a4c84b0fd50b9dd531fc73fhttp://www.cumbrestoltec.org/administra
 tor
DTSTAMP:20260423T222623Z
DESCRIPTION:Work Session 'E'
DTSTART;TZID=America/Denver:20130730T000000
SUMMARY:2013 Work Session 'E'
URL:https://www.cumbrestoltec.org/calendar/18-friends-of-the-c-ts-rr-calend
 ar/20-work-sessions/111-2013-work-session-e.html
END:VEVENT
END:VCALENDAR
