BEGIN:VCALENDAR
VERSION:2.0
PRODID:-//https://www.cumbrestoltec.org//NONSGML kigkonsult.se iCalcreator 
 2.16.12//
METHOD:PUBLISH
X-WR-CALNAME:JCal Pro Calendar
X-WR-CALDESC:Your online events calendar
X-WR-TIMEZONE:UTC
BEGIN:VEVENT
UID:20150615T140000UTC-fef7ca@http://www.cumbrestoltec.org/
DTSTAMP:20260424T093638Z
DESCRIPTION:<p>2015 Work Session 'C' June 15 - 19\, 2015 8:00 am - 5:00 pm<
 /p>
DTSTART;TZID=America/Denver:20150615T000000
SUMMARY:2015 Work Session 'C'
URL:https://www.cumbrestoltec.org/calendar/18-friends-of-the-c-ts-rr-calend
 ar/20-work-sessions/248-2015-work-session-c.html
END:VEVENT
END:VCALENDAR
