BEGIN:VCALENDAR
VERSION:2.0
PRODID:-//https://www.cumbrestoltec.org//NONSGML kigkonsult.se iCalcreator 
 2.16.12//
METHOD:PUBLISH
X-WR-CALNAME:JCal Pro Calendar
X-WR-CALDESC:Your online events calendar
X-WR-TIMEZONE:UTC
BEGIN:VEVENT
UID:20150803T140000UTC-264068@http://www.cumbrestoltec.org/
DTSTAMP:20260424T125834Z
DESCRIPTION:<p>2015 Work Session 'F' - August 3 - 7\, 2015 8:00 am - 5:00 p
 m</p>
DTSTART;TZID=America/Denver:20150804T000000
SUMMARY:2015 Work Session 'F'
URL:https://www.cumbrestoltec.org/calendar/18-friends-of-the-c-ts-rr-calend
 ar/20-work-sessions/297-2015-work-session-f.html
END:VEVENT
END:VCALENDAR
