BEGIN:VCALENDAR
VERSION:2.0
PRODID:-//https://www.cumbrestoltec.org//NONSGML kigkonsult.se iCalcreator 
 2.16.12//
METHOD:PUBLISH
X-WR-CALNAME:JCal Pro Calendar
X-WR-CALDESC:Your online events calendar
X-WR-TIMEZONE:UTC
BEGIN:VEVENT
UID:20141001T180000UTC-6dbbdd@http://www.cumbrestoltec.org/
DTSTAMP:20260424T093655Z
DESCRIPTION:<p>2015 Work Session 'G' - September 28 - October 2\, 2015 -&nb
 sp\; 8:00 am - 5:00 pm</p>
DTSTART;TZID=America/Denver:20150929T080000
DTEND;TZID=America/Denver:20150929T090000
SUMMARY:2015 Work Session 'G'
URL:https://www.cumbrestoltec.org/calendar/18-friends-of-the-c-ts-rr-calend
 ar/20-work-sessions/325-2015-work-session-g.html
END:VEVENT
END:VCALENDAR
