BEGIN:VCALENDAR
VERSION:2.0
PRODID:-//https://www.cumbrestoltec.org//NONSGML kigkonsult.se iCalcreator 
 2.16.12//
METHOD:PUBLISH
X-WR-CALNAME:JCal Pro Calendar
X-WR-CALDESC:Your online events calendar
X-WR-TIMEZONE:UTC
BEGIN:VEVENT
UID:c897c45304f1af143b4b88ea1e2c04c0http://www.cumbrestoltec.org/administra
 tor
DTSTAMP:20260423T173353Z
DESCRIPTION:Work Session M1 - Alder Gulch\, Montana
DTSTART;TZID=America/Denver:20110815T080000
DTEND;TZID=America/Denver:20110819T090000
SUMMARY:Montana Session M1
URL:https://www.cumbrestoltec.org/calendar/18-friends-of-the-c-ts-rr-calend
 ar/20-work-sessions/42-montana-session-m1.html
END:VEVENT
END:VCALENDAR
