BEGIN:VCALENDAR
VERSION:2.0
PRODID:-//https://www.cumbrestoltec.org//NONSGML kigkonsult.se iCalcreator 
 2.16.12//
METHOD:PUBLISH
X-WR-CALNAME:JCal Pro Calendar
X-WR-CALDESC:Your online events calendar
X-WR-TIMEZONE:UTC
BEGIN:VEVENT
UID:7f7c5f93f996b84656ce4ea2fd5e945dhttp://www.cumbrestoltec.org/administra
 tor
DTSTAMP:20260423T204948Z
DESCRIPTION:Work Session B
DTSTART;TZID=America/Denver:20120529T000000
SUMMARY:Work Session B
URL:https://www.cumbrestoltec.org/calendar/18-friends-of-the-c-ts-rr-calend
 ar/20-work-sessions/55-work-session-b.html
END:VEVENT
END:VCALENDAR
