BEGIN:VCALENDAR
VERSION:2.0
PRODID:-//https://www.cumbrestoltec.org//NONSGML kigkonsult.se iCalcreator 
 2.16.12//
METHOD:PUBLISH
X-WR-CALNAME:JCal Pro Calendar
X-WR-CALDESC:Your online events calendar
X-WR-TIMEZONE:UTC
BEGIN:VEVENT
UID:20170522T080000UTC-e0602f@http://www.cumbrestoltec.org/
DTSTAMP:20260424T143004Z
DESCRIPTION:<p>2017 Work Session A</p>
DTSTART:20170523T000000Z
SUMMARY:2017 Works Session A
URL:https://www.cumbrestoltec.org/calendar/18-friends-of-the-c-ts-rr-calend
 ar/20-work-sessions/641-2017-works-session-a.html
END:VEVENT
END:VCALENDAR
