BEGIN:VCALENDAR
VERSION:2.0
PRODID:-//https://www.cumbrestoltec.org//NONSGML kigkonsult.se iCalcreator 
 2.16.12//
METHOD:PUBLISH
X-WR-CALNAME:JCal Pro Calendar
X-WR-CALDESC:Your online events calendar
X-WR-TIMEZONE:UTC
BEGIN:VEVENT
UID:20170619T080000UTC-0f7eae@http://www.cumbrestoltec.org/
DTSTAMP:20260424T155537Z
DESCRIPTION:<p>2017 Work Session C</p>
DTSTART:20170622T000000Z
SUMMARY:2017 Work Session C
URL:https://www.cumbrestoltec.org/calendar/18-friends-of-the-c-ts-rr-calend
 ar/20-work-sessions/651-2017-work-session-c.html
END:VEVENT
END:VCALENDAR
