BEGIN:VCALENDAR
VERSION:2.0
PRODID:-//https://www.cumbrestoltec.org//NONSGML kigkonsult.se iCalcreator 
 2.16.12//
METHOD:PUBLISH
X-WR-CALNAME:JCal Pro Calendar
X-WR-CALDESC:Your online events calendar
X-WR-TIMEZONE:UTC
BEGIN:VEVENT
UID:d8738296980f4eee82085e22315976e9http://www.cumbrestoltec.org/administra
 tor
DTSTAMP:20260424T000602Z
DESCRIPTION:Work Session F
DTSTART;TZID=America/Denver:20120816T000000
SUMMARY:Work Session F
URL:https://www.cumbrestoltec.org/calendar/18-friends-of-the-c-ts-rr-calend
 ar/20-work-sessions/77-work-session-f.html
END:VEVENT
END:VCALENDAR
