BEGIN:VCALENDAR
VERSION:2.0
PRODID:-//https://www.cumbrestoltec.org//NONSGML kigkonsult.se iCalcreator 
 2.16.12//
METHOD:PUBLISH
X-WR-CALNAME:JCal Pro Calendar
X-WR-CALDESC:Your online events calendar
X-WR-TIMEZONE:UTC
BEGIN:VEVENT
UID:d9764162d5eee19455476000235eb4adhttp://www.cumbrestoltec.org/administra
 tor
DTSTAMP:20260423T205105Z
DESCRIPTION:Work Session C
DTSTART;TZID=America/Denver:20130617T000000
SUMMARY:2013 Work Session 'C'
URL:https://www.cumbrestoltec.org/calendar/18-friends-of-the-c-ts-rr-calend
 ar/20-work-sessions/97-2013-work-session-c.html
END:VEVENT
END:VCALENDAR
