BEGIN:VCALENDAR
VERSION:2.0
PRODID:-//https://www.cumbrestoltec.org//NONSGML kigkonsult.se iCalcreator 
 2.16.12//
METHOD:PUBLISH
X-WR-CALNAME:JCal Pro Calendar
X-WR-CALDESC:Your online events calendar
X-WR-TIMEZONE:UTC
BEGIN:VEVENT
UID:c7a731c5fb5835ee54da548f5e589676http://www.cumbrestoltec.org/administra
 tor
DTSTAMP:20260423T204121Z
DESCRIPTION:
DTSTART;TZID=America/Denver:20110528T100000
DTEND;TZID=America/Denver:20110528T110000
SUMMARY:C&TSRR Opeining Day
URL:https://www.cumbrestoltec.org/calendar/18-friends-of-the-c-ts-rr-calend
 ar/22-railroad-events/25-c-tsrr-opeining-day.html
END:VEVENT
END:VCALENDAR
