BEGIN:VCALENDAR
VERSION:2.0
PRODID:-//https://www.cumbrestoltec.org//NONSGML kigkonsult.se iCalcreator 
 2.16.12//
METHOD:PUBLISH
X-WR-CALNAME:JCal Pro Calendar
X-WR-CALDESC:Your online events calendar
X-WR-TIMEZONE:UTC
BEGIN:VEVENT
UID:c89388d03b2d0f83facd73727e5a7ec6http://www.cumbrestoltec.org/administra
 tor
DTSTAMP:20260423T191220Z
DESCRIPTION:Work Session 'C' - Chama\, NM
DTSTART;TZID=America/Denver:20110613T080000
DTEND;TZID=America/Denver:20110617T080000
SUMMARY:Work Session 'C'
URL:https://www.cumbrestoltec.org/calendar/18-friends-of-the-c-ts-rr-calend
 ar/20-work-sessions/32-work-session-c.html
END:VEVENT
END:VCALENDAR
