BEGIN:VCALENDAR
VERSION:2.0
PRODID:-//https://www.cumbrestoltec.org//NONSGML kigkonsult.se iCalcreator 
 2.16.12//
METHOD:PUBLISH
X-WR-CALNAME:JCal Pro Calendar
X-WR-CALDESC:Your online events calendar
X-WR-TIMEZONE:UTC
BEGIN:VEVENT
UID:00ef33e24bdb70f4bbff1235821b657ahttp://www.cumbrestoltec.org/administra
 tor
DTSTAMP:20260423T204046Z
DESCRIPTION:Work Session  'D' - Chama\, NM
DTSTART;TZID=America/Denver:20110620T080000
DTEND;TZID=America/Denver:20110624T080000
SUMMARY:Work Session 'D'
URL:https://www.cumbrestoltec.org/calendar/18-friends-of-the-c-ts-rr-calend
 ar/20-work-sessions/39-work-session-d.html
END:VEVENT
END:VCALENDAR
