BEGIN:VCALENDAR
VERSION:2.0
PRODID:-//https://www.cumbrestoltec.org//NONSGML kigkonsult.se iCalcreator 
 2.16.12//
METHOD:PUBLISH
X-WR-CALNAME:JCal Pro Calendar
X-WR-CALDESC:Your online events calendar
X-WR-TIMEZONE:UTC
BEGIN:VEVENT
UID:3f9c41fe8921e1bf3e75936b9ff34bdfhttp://www.cumbrestoltec.org/administra
 tor
DTSTAMP:20260423T204112Z
DESCRIPTION:Work Session 'E' - Chama\, NM
DTSTART;TZID=America/Denver:20110801T080000
DTEND;TZID=America/Denver:20110805T090000
SUMMARY:Work Session 'E'
URL:https://www.cumbrestoltec.org/calendar/18-friends-of-the-c-ts-rr-calend
 ar/20-work-sessions/40-work-session-e.html
END:VEVENT
END:VCALENDAR
