BEGIN:VCALENDAR
VERSION:2.0
PRODID:-//https://www.cumbrestoltec.org//NONSGML kigkonsult.se iCalcreator 
 2.16.12//
METHOD:PUBLISH
X-WR-CALNAME:JCal Pro Calendar
X-WR-CALDESC:Your online events calendar
X-WR-TIMEZONE:UTC
BEGIN:VEVENT
UID:054f7d7d659b7d0064492b10d16d909chttp://www.cumbrestoltec.org/administra
 tor
DTSTAMP:20260423T204112Z
DESCRIPTION:Work Session 'F' - Chama\, NM
DTSTART;TZID=America/Denver:20110808T080000
DTEND;TZID=America/Denver:20110812T080000
SUMMARY:Work Session 'F'
URL:https://www.cumbrestoltec.org/calendar/18-friends-of-the-c-ts-rr-calend
 ar/20-work-sessions/41-work-session-f.html
END:VEVENT
END:VCALENDAR
