BEGIN:VCALENDAR
VERSION:2.0
PRODID:-//https://www.cumbrestoltec.org//NONSGML kigkonsult.se iCalcreator 
 2.16.12//
METHOD:PUBLISH
X-WR-CALNAME:JCal Pro Calendar
X-WR-CALDESC:Your online events calendar
X-WR-TIMEZONE:UTC
BEGIN:VEVENT
UID:a7d8a1d3636107501c0fe6b5b7ac896fhttp://www.cumbrestoltec.org/administra
 tor
DTSTAMP:20260423T190705Z
DESCRIPTION:Montana Work Session M2 - Alder Gulch\, Montana
DTSTART;TZID=America/Denver:20110822T080000
DTEND;TZID=America/Denver:20110826T090000
SUMMARY:Montana Session M2
URL:https://www.cumbrestoltec.org/calendar/18-friends-of-the-c-ts-rr-calend
 ar/20-work-sessions/43-montana-session-m2.html
END:VEVENT
END:VCALENDAR
