BEGIN:VCALENDAR
VERSION:2.0
PRODID:-//https://www.cumbrestoltec.org//NONSGML kigkonsult.se iCalcreator 
 2.16.12//
METHOD:PUBLISH
X-WR-CALNAME:JCal Pro Calendar
X-WR-CALDESC:Your online events calendar
X-WR-TIMEZONE:UTC
BEGIN:VEVENT
UID:1151893ed4ae382d5371c4bbc6443936http://www.cumbrestoltec.org/administra
 tor
DTSTAMP:20260423T224240Z
DESCRIPTION:2013 Work Session B
DTSTART;TZID=America/Denver:20130527T000000
SUMMARY:2013 Work Session 'B'
URL:https://www.cumbrestoltec.org/calendar/18-friends-of-the-c-ts-rr-calend
 ar/20-work-sessions/92-2013-work-session-b.html
END:VEVENT
END:VCALENDAR
