BEGIN:VCALENDAR
VERSION:2.0
PRODID:-//https://www.cumbrestoltec.org//NONSGML kigkonsult.se iCalcreator 
 2.16.12//
METHOD:PUBLISH
X-WR-CALNAME:JCal Pro Calendar
X-WR-CALDESC:Your online events calendar
X-WR-TIMEZONE:UTC
BEGIN:VEVENT
UID:20140804T080000UTC-5072df@http://www.cumbrestoltec.org/
DTSTAMP:20260423T222456Z
DESCRIPTION:<p>Work Session F</p>
DTSTART:20141003T000000Z
SUMMARY:2014 Work Session G
URL:https://www.cumbrestoltec.org/calendar/18-friends-of-the-c-ts-rr-calend
 ar/20-work-sessions/183-2014-work-session-d.html
END:VEVENT
END:VCALENDAR
