BEGIN:VCALENDAR
VERSION:2.0
PRODID:-//https://www.cumbrestoltec.org//NONSGML kigkonsult.se iCalcreator 
 2.16.12//
METHOD:PUBLISH
X-WR-CALNAME:JCal Pro Calendar
X-WR-CALDESC:Your online events calendar
X-WR-TIMEZONE:UTC
BEGIN:VEVENT
UID:20170925T080000UTC-bdebd0@http://www.cumbrestoltec.org/
DTSTAMP:20260424T202813Z
DESCRIPTION:<p>2017 Work Session G</p>
DTSTART:20170927T000000Z
SUMMARY:2017 Work Session G
URL:https://www.cumbrestoltec.org/calendar/18-friends-of-the-c-ts-rr-calend
 ar/20-work-sessions/666-2017-work-session-g.html
END:VEVENT
END:VCALENDAR
