BEGIN:VCALENDAR
VERSION:2.0
PRODID:-//https://www.cumbrestoltec.org//NONSGML kigkonsult.se iCalcreator 
 2.16.12//
METHOD:PUBLISH
X-WR-CALNAME:JCal Pro Calendar
X-WR-CALDESC:Your online events calendar
X-WR-TIMEZONE:UTC
BEGIN:VEVENT
UID:f1cffcbc868c40b00ad6d2cececb1529http://www.cumbrestoltec.org/administra
 tor
DTSTAMP:20260423T190217Z
DESCRIPTION:<p>Indian Pueblo Cultural Center  <cite>www.<strong>indianpuebl
 o</strong>.org<br />2401 12th St NW<br />Albuquerque\, NM  87104<br />12th
  Street between 1-40 and Menaul</cite></p>\n<p>$42 per person.  <br />Gues
 t Speaker: Al Harper of American Heritage Railway</p>\n<p> </p>\n<p> </p>
 \n<p> </p>\n<p> </p>
DTSTART;TZID=America/Denver:20120323T180000
DTEND;TZID=America/Denver:20120323T210000
SUMMARY:Spring 2012 Member Banquet
URL:https://www.cumbrestoltec.org/calendar/18-friends-of-the-c-ts-rr-calend
 ar/19-friends-events/82-spring-2012-member-banquet.html
END:VEVENT
BEGIN:VEVENT
UID:81ea7c63abaee26810605e020014354ehttp://www.cumbrestoltec.org/administra
 tor
DTSTAMP:20260423T190217Z
DESCRIPTION:<p>Holiday Inn Express and Suites<br />http://www.hiexpress.com
 /hotels/us/en/albuquerque/abqww/hoteldetail<br />2300 12th Street NW  (acr
 oss from the Indian Pueblo Cultural Center)</p>\n<p> </p>\n<p> </p>
DTSTART;TZID=America/Denver:20120324T083000
DTEND;TZID=America/Denver:20120324T143000
SUMMARY:Spring 2012 Board Meeting
URL:https://www.cumbrestoltec.org/calendar/18-friends-of-the-c-ts-rr-calend
 ar/19-friends-events/83-spring-2012-board-meeting.html
END:VEVENT
END:VCALENDAR
