BEGIN:VCALENDAR
VERSION:2.0
PRODID:-//https://www.cumbrestoltec.org//NONSGML kigkonsult.se iCalcreator 
 2.16.12//
METHOD:PUBLISH
X-WR-CALNAME:JCal Pro Calendar
X-WR-CALDESC:Your online events calendar
X-WR-TIMEZONE:UTC
BEGIN:VEVENT
UID:81a90f359def8594bf0379839009782dhttp://www.cumbrestoltec.org/administra
 tor
DTSTAMP:20260423T190218Z
DESCRIPTION:<p>This special offering by the Friends of the Cumbres & Toltec
   Scenic Railroad\, Inc. will feature a 9:30am departure from Antonito on 
 a  one-way westbound trek to Chama.  Numerous photo runbys along the route
   will be planned.  A BBQ chicken lunch will be served at Osier and is  in
 cluded in the price of the ticket.  Each passenger will also receive a  co
 mmemorative 463 cap!  Reserve now as seats are limited!</p>\n<p>Date:     
       Tuesday May 15\, 2012</p>\n<p>Time:          9:30am Train Departs An
 tonito</p>\n<p>Fares:          $125 Coach Class</p>\n<p>Motorcoach transpo
 rtation between Chama and Antonito is included in  the fare.  For those st
 aying in Chama the motorcoach departs Chama at  8:00am\, arriving in Anton
 ito at 9:00am.  For people staying in Antonito  or Alamosa\, the motorcoac
 h departs Chama at 6:00pm and will arrive back  at the Antonito Depot at 7
 :00pm.</p>\n<strong>Locomotive 463 Night Photo Shoot is also available</st
 rong>: May  15\, 2012.  The 1st setup will be at the Chama Coal Tipple at 
 7:30 for  sunset light  shots. Then Michael Ripley will do his magic setti
 ng up  lights for  after-dark shots. The 2nd set up will be with 463 & a  
 K-36 in front  of the shop. The 3rd set up will be at the depot. There  wi
 ll be a  minimum of 2 photo line rotations at each set up so everybody  wi
 ll have  the opportunity for different angles at each location.\n<p><br />
  A tripod & shutter release is highly recommended.</p>\n<p>Price is $75. C
 all 505-880-1311 for your tickets.</p>
DTSTART;TZID=America/Denver:20120515T000000
SUMMARY:Locomotive 463 Charter Photo Shoot
URL:https://www.cumbrestoltec.org/calendar/18-friends-of-the-c-ts-rr-calend
 ar/19-friends-events/84-locomotive-463-charter-photo-shoot.html
END:VEVENT
BEGIN:VEVENT
UID:3af56b0709e70b2b4d879abd6cb220d8http://www.cumbrestoltec.org/administra
 tor
DTSTAMP:20260423T190218Z
DESCRIPTION:Work Session A
DTSTART;TZID=America/Denver:20120521T000000
SUMMARY:Work Session A
URL:https://www.cumbrestoltec.org/calendar/18-friends-of-the-c-ts-rr-calend
 ar/20-work-sessions/49-work-session-a.html
END:VEVENT
BEGIN:VEVENT
UID:3af56b0709e70b2b4d879abd6cb220d8http://www.cumbrestoltec.org/administra
 tor
DTSTAMP:20260423T190218Z
DESCRIPTION:Work Session A
DTSTART;TZID=America/Denver:20120522T000000
SUMMARY:Work Session A
URL:https://www.cumbrestoltec.org/calendar/18-friends-of-the-c-ts-rr-calend
 ar/20-work-sessions/50-work-session-a.html
END:VEVENT
BEGIN:VEVENT
UID:3af56b0709e70b2b4d879abd6cb220d8http://www.cumbrestoltec.org/administra
 tor
DTSTAMP:20260423T190218Z
DESCRIPTION:Work Session A
DTSTART;TZID=America/Denver:20120523T000000
SUMMARY:Work Session A
URL:https://www.cumbrestoltec.org/calendar/18-friends-of-the-c-ts-rr-calend
 ar/20-work-sessions/51-work-session-a.html
END:VEVENT
BEGIN:VEVENT
UID:3af56b0709e70b2b4d879abd6cb220d8http://www.cumbrestoltec.org/administra
 tor
DTSTAMP:20260423T190218Z
DESCRIPTION:Work Session A
DTSTART;TZID=America/Denver:20120524T000000
SUMMARY:Work Session A
URL:https://www.cumbrestoltec.org/calendar/18-friends-of-the-c-ts-rr-calend
 ar/20-work-sessions/52-work-session-a.html
END:VEVENT
BEGIN:VEVENT
UID:3af56b0709e70b2b4d879abd6cb220d8http://www.cumbrestoltec.org/administra
 tor
DTSTAMP:20260423T190218Z
DESCRIPTION:Work Session A
DTSTART;TZID=America/Denver:20120525T000000
SUMMARY:Work Session A
URL:https://www.cumbrestoltec.org/calendar/18-friends-of-the-c-ts-rr-calend
 ar/20-work-sessions/53-work-session-a.html
END:VEVENT
BEGIN:VEVENT
UID:366f09f09381b6fa83d100dd219f496fhttp://www.cumbrestoltec.org/administra
 tor
DTSTAMP:20260423T190218Z
DESCRIPTION:C&TSRR Opening Day
DTSTART;TZID=America/Denver:20120526T000000
SUMMARY:Opening Day 2012
URL:https://www.cumbrestoltec.org/calendar/18-friends-of-the-c-ts-rr-calend
 ar/22-railroad-events/48-opening-day-2012.html
END:VEVENT
BEGIN:VEVENT
UID:7f7c5f93f996b84656ce4ea2fd5e945dhttp://www.cumbrestoltec.org/administra
 tor
DTSTAMP:20260423T190218Z
DESCRIPTION:Work Session B
DTSTART;TZID=America/Denver:20120528T000000
SUMMARY:Work Session B
URL:https://www.cumbrestoltec.org/calendar/18-friends-of-the-c-ts-rr-calend
 ar/20-work-sessions/54-work-session-b.html
END:VEVENT
BEGIN:VEVENT
UID:7f7c5f93f996b84656ce4ea2fd5e945dhttp://www.cumbrestoltec.org/administra
 tor
DTSTAMP:20260423T190218Z
DESCRIPTION:Work Session B
DTSTART;TZID=America/Denver:20120529T000000
SUMMARY:Work Session B
URL:https://www.cumbrestoltec.org/calendar/18-friends-of-the-c-ts-rr-calend
 ar/20-work-sessions/55-work-session-b.html
END:VEVENT
BEGIN:VEVENT
UID:7f7c5f93f996b84656ce4ea2fd5e945dhttp://www.cumbrestoltec.org/administra
 tor
DTSTAMP:20260423T190218Z
DESCRIPTION:Work Session B
DTSTART;TZID=America/Denver:20120530T000000
SUMMARY:Work Session B
URL:https://www.cumbrestoltec.org/calendar/18-friends-of-the-c-ts-rr-calend
 ar/20-work-sessions/56-work-session-b.html
END:VEVENT
BEGIN:VEVENT
UID:7f7c5f93f996b84656ce4ea2fd5e945dhttp://www.cumbrestoltec.org/administra
 tor
DTSTAMP:20260423T190218Z
DESCRIPTION:Work Session B
DTSTART;TZID=America/Denver:20120531T000000
SUMMARY:Work Session B
URL:https://www.cumbrestoltec.org/calendar/18-friends-of-the-c-ts-rr-calend
 ar/20-work-sessions/57-work-session-b.html
END:VEVENT
BEGIN:VEVENT
UID:7f7c5f93f996b84656ce4ea2fd5e945dhttp://www.cumbrestoltec.org/administra
 tor
DTSTAMP:20260423T190218Z
DESCRIPTION:Work Session B
DTSTART;TZID=America/Denver:20120601T000000
SUMMARY:Work Session B
URL:https://www.cumbrestoltec.org/calendar/18-friends-of-the-c-ts-rr-calend
 ar/20-work-sessions/58-work-session-b.html
END:VEVENT
END:VCALENDAR
