BEGIN:VCALENDAR
VERSION:2.0
PRODID:-//https://www.cumbrestoltec.org//NONSGML kigkonsult.se iCalcreator 
 2.16.12//
METHOD:PUBLISH
X-WR-CALNAME:JCal Pro Calendar
X-WR-CALDESC:Your online events calendar
X-WR-TIMEZONE:UTC
BEGIN:VEVENT
UID:a1fda25b0a2e306c8062648043b428e9http://www.cumbrestoltec.org/administra
 tor
DTSTAMP:20260423T190218Z
DESCRIPTION:Fall Member Banquet - Colorado Springs
DTSTART;TZID=America/Denver:20121026T180000
DTEND;TZID=America/Denver:20121026T210000
SUMMARY:Fall 2012 Member Banquet
URL:https://www.cumbrestoltec.org/calendar/18-friends-of-the-c-ts-rr-calend
 ar/19-friends-events/86-fall-2012-member-banquet.html
END:VEVENT
BEGIN:VEVENT
UID:4b008d0913ce6d4c9ad54b2dcb21b84ahttp://www.cumbrestoltec.org/administra
 tor
DTSTAMP:20260423T190218Z
DESCRIPTION:<p>Fall Board Meeting - Colorado Springs</p>\n<p>Details to fol
 low</p>
DTSTART;TZID=America/Denver:20121027T083000
DTEND;TZID=America/Denver:20121027T143000
SUMMARY:Fall 2012 Board Meeting
URL:https://www.cumbrestoltec.org/calendar/18-friends-of-the-c-ts-rr-calend
 ar/19-friends-events/85-fall-2012-board-meeting.html
END:VEVENT
END:VCALENDAR
