BEGIN:VCALENDAR
VERSION:2.0
PRODID:-//https://www.cumbrestoltec.org//NONSGML kigkonsult.se iCalcreator 
 2.16.12//
METHOD:PUBLISH
X-WR-CALNAME:JCal Pro Calendar
X-WR-CALDESC:Your online events calendar
X-WR-TIMEZONE:UTC
BEGIN:VEVENT
UID:20140321T180000UTC-b51f11@http://www.cumbrestoltec.org/
DTSTAMP:20260423T190501Z
DESCRIPTION:<p>Spring Membership Banquet</p>
DTSTART:20140321T000000Z
SUMMARY:2014 Spring Banquet
URL:https://www.cumbrestoltec.org/calendar/18-friends-of-the-c-ts-rr-calend
 ar/19-friends-events/125-2014-spring-banquet.html
END:VEVENT
BEGIN:VEVENT
UID:20140322T083000UTC-ba0f2c@http://www.cumbrestoltec.org/
DTSTAMP:20260423T190501Z
DESCRIPTION:<p>2014 Spring Board of Directors Meetin - Best Western Rio Gra
 nde\, Albuquerque</p>
DTSTART:20140322T083000Z
DTEND:20140322T093000Z
SUMMARY:2014 Spring Board Meeting 
URL:https://www.cumbrestoltec.org/calendar/18-friends-of-the-c-ts-rr-calend
 ar/19-friends-events/126-2014-spring-board-meeting.html
END:VEVENT
END:VCALENDAR
