BEGIN:VCALENDAR
VERSION:2.0
PRODID:-//https://www.cumbrestoltec.org//NONSGML kigkonsult.se iCalcreator 
 2.16.12//
METHOD:PUBLISH
X-WR-CALNAME:JCal Pro Calendar
X-WR-CALDESC:Your online events calendar
X-WR-TIMEZONE:UTC
BEGIN:VEVENT
UID:20160215T190000UTC-b18667@http://www.cumbrestoltec.org/
DTSTAMP:20260424T000622Z
DESCRIPTION:<p>SOLD OUT - Please call to be on the waiting list and express
  interest in future trips!</p>
DTSTART:20160212T070000Z
DTEND:20160212T080000Z
SUMMARY:LA-NO Private Car Charter
URL:https://www.cumbrestoltec.org/calendar/18-friends-of-the-c-ts-rr-calend
 ar/19-friends-events/406-la-no-private-car-charter.html
END:VEVENT
BEGIN:VEVENT
UID:20160215T190000UTC-b18667@http://www.cumbrestoltec.org/
DTSTAMP:20260424T000622Z
DESCRIPTION:<p>SOLD OUT - Please call to be on the waiting list and express
  interest in future trips!</p>
DTSTART:20160213T070000Z
DTEND:20160213T080000Z
SUMMARY:LA-NO Private Car Charter
URL:https://www.cumbrestoltec.org/calendar/18-friends-of-the-c-ts-rr-calend
 ar/19-friends-events/439-la-no-private-car-charter.html
END:VEVENT
BEGIN:VEVENT
UID:20160215T190000UTC-b18667@http://www.cumbrestoltec.org/
DTSTAMP:20260424T000622Z
DESCRIPTION:<p>SOLD OUT - Please call to be on the waiting list and express
  interest in future trips!</p>
DTSTART:20160214T070000Z
DTEND:20160214T080000Z
SUMMARY:LA-NO Private Car Charter
URL:https://www.cumbrestoltec.org/calendar/18-friends-of-the-c-ts-rr-calend
 ar/19-friends-events/440-la-no-private-car-charter.html
END:VEVENT
BEGIN:VEVENT
UID:20160215T190000UTC-b18667@http://www.cumbrestoltec.org/
DTSTAMP:20260424T000622Z
DESCRIPTION:<p>SOLD OUT - Please call to be on the waiting list and express
  interest in future trips!</p>
DTSTART:20160215T070000Z
DTEND:20160215T080000Z
SUMMARY:LA-NO Private Car Charter
URL:https://www.cumbrestoltec.org/calendar/18-friends-of-the-c-ts-rr-calend
 ar/19-friends-events/441-la-no-private-car-charter.html
END:VEVENT
BEGIN:VEVENT
UID:20160215T190000UTC-b18667@http://www.cumbrestoltec.org/
DTSTAMP:20260424T000622Z
DESCRIPTION:<p>SOLD OUT - Please call to be on the waiting list and express
  interest in future trips!</p>
DTSTART:20160216T070000Z
DTEND:20160216T080000Z
SUMMARY:LA-NO Private Car Charter
URL:https://www.cumbrestoltec.org/calendar/18-friends-of-the-c-ts-rr-calend
 ar/19-friends-events/442-la-no-private-car-charter.html
END:VEVENT
BEGIN:VEVENT
UID:20160215T190000UTC-b18667@http://www.cumbrestoltec.org/
DTSTAMP:20260424T000622Z
DESCRIPTION:<p>SOLD OUT - Please call to be on the waiting list and express
  interest in future trips!</p>
DTSTART:20160217T070000Z
DTEND:20160217T080000Z
SUMMARY:LA-NO Private Car Charter
URL:https://www.cumbrestoltec.org/calendar/18-friends-of-the-c-ts-rr-calend
 ar/19-friends-events/443-la-no-private-car-charter.html
END:VEVENT
BEGIN:VEVENT
UID:20160215T190000UTC-b18667@http://www.cumbrestoltec.org/
DTSTAMP:20260424T000622Z
DESCRIPTION:<p>SOLD OUT - Please call to be on the waiting list and express
  interest in future trips!</p>
DTSTART:20160218T070000Z
DTEND:20160218T080000Z
SUMMARY:LA-NO Private Car Charter
URL:https://www.cumbrestoltec.org/calendar/18-friends-of-the-c-ts-rr-calend
 ar/19-friends-events/444-la-no-private-car-charter.html
END:VEVENT
BEGIN:VEVENT
UID:20160215T190000UTC-b18667@http://www.cumbrestoltec.org/
DTSTAMP:20260424T000622Z
DESCRIPTION:<p>SOLD OUT - Please call to be on the waiting list and express
  interest in future trips!</p>
DTSTART:20160219T070000Z
DTEND:20160219T080000Z
SUMMARY:LA-NO Private Car Charter
URL:https://www.cumbrestoltec.org/calendar/18-friends-of-the-c-ts-rr-calend
 ar/19-friends-events/445-la-no-private-car-charter.html
END:VEVENT
END:VCALENDAR
