BEGIN:VCALENDAR
VERSION:2.0
PRODID:-//https://www.cumbrestoltec.org//NONSGML kigkonsult.se iCalcreator 
 2.16.12//
METHOD:PUBLISH
X-WR-CALNAME:JCal Pro Calendar
X-WR-CALDESC:Your online events calendar
X-WR-TIMEZONE:UTC
BEGIN:VEVENT
UID:20160312T053000UTC-147f72@http://www.cumbrestoltec.org/
DTSTAMP:20260423T221822Z
DESCRIPTION:<p>SOLD OUT - Please call to be on the waiting list and express
  interest in future trips!</p>
DTSTART:20160312T000000Z
SUMMARY:2016 Flanger Charter
URL:https://www.cumbrestoltec.org/calendar/18-friends-of-the-c-ts-rr-calend
 ar/19-friends-events/405-2016-flanger-charter.html
END:VEVENT
BEGIN:VEVENT
UID:20160312T053000UTC-147f72@http://www.cumbrestoltec.org/
DTSTAMP:20260423T221822Z
DESCRIPTION:<p>SOLD OUT - Please call to be on the waiting list and express
  interest in future trips!</p>
DTSTART:20160313T000000Z
SUMMARY:2016 Flanger Charter
URL:https://www.cumbrestoltec.org/calendar/18-friends-of-the-c-ts-rr-calend
 ar/19-friends-events/424-2016-flanger-charter.html
END:VEVENT
BEGIN:VEVENT
UID:20160318T180000UTC-0858fe@http://www.cumbrestoltec.org/
DTSTAMP:20260423T221822Z
DESCRIPTION:
DTSTART:20160318T180000Z
DTEND:20160318T190000Z
SUMMARY:2016 Spring Member Banquet
URL:https://www.cumbrestoltec.org/calendar/18-friends-of-the-c-ts-rr-calend
 ar/19-friends-events/401-2016-spring-member-banquet.html
END:VEVENT
BEGIN:VEVENT
UID:20160319T090000UTC-d35ea1@http://www.cumbrestoltec.org/
DTSTAMP:20260423T221822Z
DESCRIPTION:
DTSTART:20160319T090000Z
DTEND:20160319T100000Z
SUMMARY:2016 Spring Board Meeting
URL:https://www.cumbrestoltec.org/calendar/18-friends-of-the-c-ts-rr-calend
 ar/19-friends-events/402-2016-spring-board-meeting.html
END:VEVENT
END:VCALENDAR
