BEGIN:VCALENDAR
VERSION:2.0
PRODID:-//https://www.cumbrestoltec.org//NONSGML kigkonsult.se iCalcreator 
 2.16.12//
METHOD:PUBLISH
X-WR-CALNAME:JCal Pro Calendar
X-WR-CALDESC:Your online events calendar
X-WR-TIMEZONE:UTC
BEGIN:VEVENT
UID:20170529T080000UTC-a3d345@http://www.cumbrestoltec.org/
DTSTAMP:20260424T135905Z
DESCRIPTION:<p>2017 Work Session B</p>
DTSTART:20170601T000000Z
SUMMARY:2017 Work Session B
URL:https://www.cumbrestoltec.org/calendar/18-friends-of-the-c-ts-rr-calend
 ar/20-work-sessions/647-2017-work-session-b.html
END:VEVENT
BEGIN:VEVENT
UID:20170529T080000UTC-a3d345@http://www.cumbrestoltec.org/
DTSTAMP:20260424T135905Z
DESCRIPTION:<p>2017 Work Session B</p>
DTSTART:20170602T000000Z
SUMMARY:2017 Work Session B
URL:https://www.cumbrestoltec.org/calendar/18-friends-of-the-c-ts-rr-calend
 ar/20-work-sessions/648-2017-work-session-b.html
END:VEVENT
BEGIN:VEVENT
UID:20170619T080000UTC-0f7eae@http://www.cumbrestoltec.org/
DTSTAMP:20260424T135905Z
DESCRIPTION:<p>2017 Work Session C</p>
DTSTART:20170619T000000Z
SUMMARY:2017 Work Session C
URL:https://www.cumbrestoltec.org/calendar/18-friends-of-the-c-ts-rr-calend
 ar/20-work-sessions/605-2017-work-session-c.html
END:VEVENT
BEGIN:VEVENT
UID:20170619T080000UTC-0f7eae@http://www.cumbrestoltec.org/
DTSTAMP:20260424T135905Z
DESCRIPTION:<p>2017 Work Session C</p>
DTSTART:20170620T000000Z
SUMMARY:2017 Work Session C
URL:https://www.cumbrestoltec.org/calendar/18-friends-of-the-c-ts-rr-calend
 ar/20-work-sessions/649-2017-work-session-c.html
END:VEVENT
BEGIN:VEVENT
UID:20170619T080000UTC-0f7eae@http://www.cumbrestoltec.org/
DTSTAMP:20260424T135905Z
DESCRIPTION:<p>2017 Work Session C</p>
DTSTART:20170621T000000Z
SUMMARY:2017 Work Session C
URL:https://www.cumbrestoltec.org/calendar/18-friends-of-the-c-ts-rr-calend
 ar/20-work-sessions/650-2017-work-session-c.html
END:VEVENT
BEGIN:VEVENT
UID:20170619T080000UTC-0f7eae@http://www.cumbrestoltec.org/
DTSTAMP:20260424T135905Z
DESCRIPTION:<p>2017 Work Session C</p>
DTSTART:20170622T000000Z
SUMMARY:2017 Work Session C
URL:https://www.cumbrestoltec.org/calendar/18-friends-of-the-c-ts-rr-calend
 ar/20-work-sessions/651-2017-work-session-c.html
END:VEVENT
BEGIN:VEVENT
UID:20170619T080000UTC-0f7eae@http://www.cumbrestoltec.org/
DTSTAMP:20260424T135905Z
DESCRIPTION:<p>2017 Work Session C</p>
DTSTART:20170623T000000Z
SUMMARY:2017 Work Session C
URL:https://www.cumbrestoltec.org/calendar/18-friends-of-the-c-ts-rr-calend
 ar/20-work-sessions/652-2017-work-session-c.html
END:VEVENT
BEGIN:VEVENT
UID:20170623T180000UTC-74e843@http://www.cumbrestoltec.org/
DTSTAMP:20260424T135905Z
DESCRIPTION:<p>2017 Summer Memeber Banquet - Please refer to the NEWS feed 
 for updates of this event</p>
DTSTART:20170623T180000Z
DTEND:20170623T190000Z
SUMMARY:2017 Summer Member Banquet
URL:https://www.cumbrestoltec.org/calendar/18-friends-of-the-c-ts-rr-calend
 ar/19-friends-events/669-2017-summer-member-banquet.html
END:VEVENT
BEGIN:VEVENT
UID:20170624T140000UTC-20ac9b@http://www.cumbrestoltec.org/
DTSTAMP:20260424T135905Z
DESCRIPTION:<p>2017 Summer Board Meeting with Elections</p>
DTSTART;TZID=America/Denver:20170624T080000
DTEND;TZID=America/Denver:20170624T090000
SUMMARY:2017 Summer Board Meeting
URL:https://www.cumbrestoltec.org/calendar/18-friends-of-the-c-ts-rr-calend
 ar/19-friends-events/671-2017-summer-board-meeting.html
END:VEVENT
BEGIN:VEVENT
UID:20170626T080000UTC-bc7865@http://www.cumbrestoltec.org/
DTSTAMP:20260424T135905Z
DESCRIPTION:<p>2017 Work Session D</p>
DTSTART:20170626T000000Z
SUMMARY:2017 Work Session D
URL:https://www.cumbrestoltec.org/calendar/18-friends-of-the-c-ts-rr-calend
 ar/20-work-sessions/619-2017-work-session-d.html
END:VEVENT
BEGIN:VEVENT
UID:20170626T080000UTC-bc7865@http://www.cumbrestoltec.org/
DTSTAMP:20260424T135905Z
DESCRIPTION:<p>2017 Work Session D</p>
DTSTART:20170627T000000Z
SUMMARY:2017 Work Session D
URL:https://www.cumbrestoltec.org/calendar/18-friends-of-the-c-ts-rr-calend
 ar/20-work-sessions/653-2017-work-session-d.html
END:VEVENT
BEGIN:VEVENT
UID:20170626T080000UTC-bc7865@http://www.cumbrestoltec.org/
DTSTAMP:20260424T135905Z
DESCRIPTION:<p>2017 Work Session D</p>
DTSTART:20170628T000000Z
SUMMARY:2017 Work Session D
URL:https://www.cumbrestoltec.org/calendar/18-friends-of-the-c-ts-rr-calend
 ar/20-work-sessions/654-2017-work-session-d.html
END:VEVENT
BEGIN:VEVENT
UID:20170626T080000UTC-bc7865@http://www.cumbrestoltec.org/
DTSTAMP:20260424T135905Z
DESCRIPTION:<p>2017 Work Session D</p>
DTSTART:20170629T000000Z
SUMMARY:2017 Work Session D
URL:https://www.cumbrestoltec.org/calendar/18-friends-of-the-c-ts-rr-calend
 ar/20-work-sessions/655-2017-work-session-d.html
END:VEVENT
BEGIN:VEVENT
UID:20170626T080000UTC-bc7865@http://www.cumbrestoltec.org/
DTSTAMP:20260424T135905Z
DESCRIPTION:<p>2017 Work Session D</p>
DTSTART:20170630T000000Z
SUMMARY:2017 Work Session D
URL:https://www.cumbrestoltec.org/calendar/18-friends-of-the-c-ts-rr-calend
 ar/20-work-sessions/656-2017-work-session-d.html
END:VEVENT
END:VCALENDAR
