BEGIN:VCALENDAR
VERSION:2.0
PRODID:-//https://www.cumbrestoltec.org//NONSGML kigkonsult.se iCalcreator 
 2.16.12//
METHOD:PUBLISH
X-WR-CALNAME:JCal Pro Calendar
X-WR-CALDESC:Your online events calendar
X-WR-TIMEZONE:UTC
BEGIN:VEVENT
UID:20140616T080000UTC-e93543@http://www.cumbrestoltec.org/
DTSTAMP:20260424T000115Z
DESCRIPTION:<p>Work Session C</p>
DTSTART:20140616T000000Z
SUMMARY:2014 Work Session C
URL:https://www.cumbrestoltec.org/calendar/18-friends-of-the-c-ts-rr-calend
 ar/20-work-sessions/138-2014-work-session-c.html
END:VEVENT
BEGIN:VEVENT
UID:20140616T080000UTC-e93543@http://www.cumbrestoltec.org/
DTSTAMP:20260424T000115Z
DESCRIPTION:<p>Work Session C</p>
DTSTART:20140617T000000Z
SUMMARY:2014 Work Session C
URL:https://www.cumbrestoltec.org/calendar/18-friends-of-the-c-ts-rr-calend
 ar/20-work-sessions/200-2014-work-session-c.html
END:VEVENT
BEGIN:VEVENT
UID:20140616T080000UTC-e93543@http://www.cumbrestoltec.org/
DTSTAMP:20260424T000115Z
DESCRIPTION:<p>Work Session C</p>
DTSTART:20140618T000000Z
SUMMARY:2014 Work Session C
URL:https://www.cumbrestoltec.org/calendar/18-friends-of-the-c-ts-rr-calend
 ar/20-work-sessions/201-2014-work-session-c.html
END:VEVENT
BEGIN:VEVENT
UID:20140616T080000UTC-e93543@http://www.cumbrestoltec.org/
DTSTAMP:20260424T000115Z
DESCRIPTION:<p>Work Session C</p>
DTSTART:20140619T000000Z
SUMMARY:2014 Work Session C
URL:https://www.cumbrestoltec.org/calendar/18-friends-of-the-c-ts-rr-calend
 ar/20-work-sessions/202-2014-work-session-c.html
END:VEVENT
BEGIN:VEVENT
UID:20140616T080000UTC-e93543@http://www.cumbrestoltec.org/
DTSTAMP:20260424T000115Z
DESCRIPTION:<p>Work Session C</p>
DTSTART:20140620T000000Z
SUMMARY:2014 Work Session C
URL:https://www.cumbrestoltec.org/calendar/18-friends-of-the-c-ts-rr-calend
 ar/20-work-sessions/203-2014-work-session-c.html
END:VEVENT
END:VCALENDAR
