BEGIN:VCALENDAR
VERSION:2.0
PRODID:-//https://www.cumbrestoltec.org//NONSGML kigkonsult.se iCalcreator 
 2.16.12//
METHOD:PUBLISH
X-WR-CALNAME:JCal Pro Calendar
X-WR-CALDESC:Your online events calendar
X-WR-TIMEZONE:UTC
BEGIN:VEVENT
UID:20140623T080000UTC-68c0f3@http://www.cumbrestoltec.org/
DTSTAMP:20260424T000114Z
DESCRIPTION:<p>Work Session F</p>
DTSTART:20140804T000000Z
SUMMARY:2014 Work Session F
URL:https://www.cumbrestoltec.org/calendar/18-friends-of-the-c-ts-rr-calend
 ar/20-work-sessions/143-2014-work-session-d.html
END:VEVENT
BEGIN:VEVENT
UID:20140623T080000UTC-68c0f3@http://www.cumbrestoltec.org/
DTSTAMP:20260424T000114Z
DESCRIPTION:<p>Work Session F</p>
DTSTART:20140805T000000Z
SUMMARY:2014 Work Session F
URL:https://www.cumbrestoltec.org/calendar/18-friends-of-the-c-ts-rr-calend
 ar/20-work-sessions/184-2014-work-session-d.html
END:VEVENT
BEGIN:VEVENT
UID:20140623T080000UTC-68c0f3@http://www.cumbrestoltec.org/
DTSTAMP:20260424T000114Z
DESCRIPTION:<p>Work Session F</p>
DTSTART:20140806T000000Z
SUMMARY:2014 Work Session F
URL:https://www.cumbrestoltec.org/calendar/18-friends-of-the-c-ts-rr-calend
 ar/20-work-sessions/185-2014-work-session-d.html
END:VEVENT
BEGIN:VEVENT
UID:20140623T080000UTC-68c0f3@http://www.cumbrestoltec.org/
DTSTAMP:20260424T000114Z
DESCRIPTION:<p>Work Session F</p>
DTSTART:20140807T000000Z
SUMMARY:2014 Work Session F
URL:https://www.cumbrestoltec.org/calendar/18-friends-of-the-c-ts-rr-calend
 ar/20-work-sessions/186-2014-work-session-d.html
END:VEVENT
BEGIN:VEVENT
UID:20140623T080000UTC-68c0f3@http://www.cumbrestoltec.org/
DTSTAMP:20260424T000114Z
DESCRIPTION:<p>Work Session F</p>
DTSTART:20140808T000000Z
SUMMARY:2014 Work Session F
URL:https://www.cumbrestoltec.org/calendar/18-friends-of-the-c-ts-rr-calend
 ar/20-work-sessions/187-2014-work-session-d.html
END:VEVENT
END:VCALENDAR
