BEGIN:VCALENDAR
VERSION:2.0
PRODID:-//https://www.cumbrestoltec.org//NONSGML kigkonsult.se iCalcreator 
 2.16.12//
METHOD:PUBLISH
X-WR-CALNAME:JCal Pro Calendar
X-WR-CALDESC:Your online events calendar
X-WR-TIMEZONE:UTC
BEGIN:VEVENT
UID:20141024T180000UTC-f81578@http://www.cumbrestoltec.org/
DTSTAMP:20260423T204049Z
DESCRIPTION:<p>Fall Membership Banquet - Colorado - Location to be determin
 ed</p>
DTSTART:20141024T180000Z
DTEND:20141024T190000Z
SUMMARY:2014 Fall Member Banquet
URL:https://www.cumbrestoltec.org/calendar/18-friends-of-the-c-ts-rr-calend
 ar/19-friends-events/179-2014-fall-member-banquet.html
END:VEVENT
BEGIN:VEVENT
UID:20141025T080000UTC-0340d8@http://www.cumbrestoltec.org/
DTSTAMP:20260423T204049Z
DESCRIPTION:<p>2014 Fall Board of Directors Meeting - Colorado - Location t
 o be determined</p>
DTSTART:20141025T080000Z
DTEND:20141025T090000Z
SUMMARY:2014 Fall Board Meeting
URL:https://www.cumbrestoltec.org/calendar/18-friends-of-the-c-ts-rr-calend
 ar/19-friends-events/212-2014-fall-board-meeting.html
END:VEVENT
END:VCALENDAR
