BEGIN:VCALENDAR
VERSION:2.0
PRODID:-//https://www.cumbrestoltec.org//NONSGML kigkonsult.se iCalcreator 
 2.16.12//
METHOD:PUBLISH
X-WR-CALNAME:JCal Pro Calendar
X-WR-CALDESC:Your online events calendar
X-WR-TIMEZONE:UTC
BEGIN:VEVENT
UID:20160528T100000UTC-0dd39f@http://www.cumbrestoltec.org/
DTSTAMP:20260423T190538Z
DESCRIPTION:<p>2016 Train Season</p>\n<p>Visit <a href='http://www.cumbrest
 oltec.com'>www.cumbrestoltec.com</a>&nbsp\;for information and tickets</p>
DTSTART:20160605T100000Z
DTEND:20160605T110000Z
SUMMARY:Train Season
URL:https://www.cumbrestoltec.org/calendar/18-friends-of-the-c-ts-rr-calend
 ar/22-railroad-events/454-train-season.html
END:VEVENT
BEGIN:VEVENT
UID:20160528T100000UTC-0dd39f@http://www.cumbrestoltec.org/
DTSTAMP:20260423T190538Z
DESCRIPTION:<p>2016 Train Season</p>\n<p>Visit <a href='http://www.cumbrest
 oltec.com'>www.cumbrestoltec.com</a>&nbsp\;for information and tickets</p>
DTSTART:20160606T100000Z
DTEND:20160606T110000Z
SUMMARY:Train Season
URL:https://www.cumbrestoltec.org/calendar/18-friends-of-the-c-ts-rr-calend
 ar/22-railroad-events/455-train-season.html
END:VEVENT
BEGIN:VEVENT
UID:20160528T100000UTC-0dd39f@http://www.cumbrestoltec.org/
DTSTAMP:20260423T190538Z
DESCRIPTION:<p>2016 Train Season</p>\n<p>Visit <a href='http://www.cumbrest
 oltec.com'>www.cumbrestoltec.com</a>&nbsp\;for information and tickets</p>
DTSTART:20160607T100000Z
DTEND:20160607T110000Z
SUMMARY:Train Season
URL:https://www.cumbrestoltec.org/calendar/18-friends-of-the-c-ts-rr-calend
 ar/22-railroad-events/456-train-season.html
END:VEVENT
BEGIN:VEVENT
UID:20160528T100000UTC-0dd39f@http://www.cumbrestoltec.org/
DTSTAMP:20260423T190538Z
DESCRIPTION:<p>2016 Train Season</p>\n<p>Visit <a href='http://www.cumbrest
 oltec.com'>www.cumbrestoltec.com</a>&nbsp\;for information and tickets</p>
DTSTART:20160608T100000Z
DTEND:20160608T110000Z
SUMMARY:Train Season
URL:https://www.cumbrestoltec.org/calendar/18-friends-of-the-c-ts-rr-calend
 ar/22-railroad-events/457-train-season.html
END:VEVENT
BEGIN:VEVENT
UID:20160528T100000UTC-0dd39f@http://www.cumbrestoltec.org/
DTSTAMP:20260423T190538Z
DESCRIPTION:<p>2016 Train Season</p>\n<p>Visit <a href='http://www.cumbrest
 oltec.com'>www.cumbrestoltec.com</a>&nbsp\;for information and tickets</p>
DTSTART:20160609T100000Z
DTEND:20160609T110000Z
SUMMARY:Train Season
URL:https://www.cumbrestoltec.org/calendar/18-friends-of-the-c-ts-rr-calend
 ar/22-railroad-events/458-train-season.html
END:VEVENT
BEGIN:VEVENT
UID:20160528T100000UTC-0dd39f@http://www.cumbrestoltec.org/
DTSTAMP:20260423T190538Z
DESCRIPTION:<p>2016 Train Season</p>\n<p>Visit <a href='http://www.cumbrest
 oltec.com'>www.cumbrestoltec.com</a>&nbsp\;for information and tickets</p>
DTSTART:20160610T100000Z
DTEND:20160610T110000Z
SUMMARY:Train Season
URL:https://www.cumbrestoltec.org/calendar/18-friends-of-the-c-ts-rr-calend
 ar/22-railroad-events/459-train-season.html
END:VEVENT
BEGIN:VEVENT
UID:20160528T100000UTC-0dd39f@http://www.cumbrestoltec.org/
DTSTAMP:20260423T190538Z
DESCRIPTION:<p>2016 Train Season</p>\n<p>Visit <a href='http://www.cumbrest
 oltec.com'>www.cumbrestoltec.com</a>&nbsp\;for information and tickets</p>
DTSTART:20160611T100000Z
DTEND:20160611T110000Z
SUMMARY:Train Season
URL:https://www.cumbrestoltec.org/calendar/18-friends-of-the-c-ts-rr-calend
 ar/22-railroad-events/460-train-season.html
END:VEVENT
END:VCALENDAR
