BEGIN:VCALENDAR
VERSION:2.0
PRODID:-//https://www.cumbrestoltec.org//NONSGML kigkonsult.se iCalcreator 
 2.16.12//
METHOD:PUBLISH
X-WR-CALNAME:JCal Pro Calendar
X-WR-CALDESC:Your online events calendar
X-WR-TIMEZONE:UTC
BEGIN:VEVENT
UID:20160528T100000UTC-0dd39f@http://www.cumbrestoltec.org/
DTSTAMP:20260423T203750Z
DESCRIPTION:<p>2016 Train Season</p>\n<p>Visit <a href='http://www.cumbrest
 oltec.com'>www.cumbrestoltec.com</a>&nbsp\;for information and tickets</p>
DTSTART:20160619T100000Z
DTEND:20160619T110000Z
SUMMARY:Train Season
URL:https://www.cumbrestoltec.org/calendar/18-friends-of-the-c-ts-rr-calend
 ar/22-railroad-events/468-train-season.html
END:VEVENT
BEGIN:VEVENT
UID:20160620T080000UTC-6a1d36@http://www.cumbrestoltec.org/
DTSTAMP:20260423T203750Z
DESCRIPTION:
DTSTART:20160620T080000Z
DTEND:20160620T090000Z
SUMMARY:2016 Work Session C
URL:https://www.cumbrestoltec.org/calendar/18-friends-of-the-c-ts-rr-calend
 ar/20-work-sessions/361-2016-work-session-c.html
END:VEVENT
BEGIN:VEVENT
UID:20160528T100000UTC-0dd39f@http://www.cumbrestoltec.org/
DTSTAMP:20260423T203750Z
DESCRIPTION:<p>2016 Train Season</p>\n<p>Visit <a href='http://www.cumbrest
 oltec.com'>www.cumbrestoltec.com</a>&nbsp\;for information and tickets</p>
DTSTART:20160620T100000Z
DTEND:20160620T110000Z
SUMMARY:Train Season
URL:https://www.cumbrestoltec.org/calendar/18-friends-of-the-c-ts-rr-calend
 ar/22-railroad-events/469-train-season.html
END:VEVENT
BEGIN:VEVENT
UID:20160620T080000UTC-6a1d36@http://www.cumbrestoltec.org/
DTSTAMP:20260423T203750Z
DESCRIPTION:
DTSTART:20160621T080000Z
DTEND:20160621T090000Z
SUMMARY:2016 Work Session C
URL:https://www.cumbrestoltec.org/calendar/18-friends-of-the-c-ts-rr-calend
 ar/20-work-sessions/362-2016-work-session-c.html
END:VEVENT
BEGIN:VEVENT
UID:20160528T100000UTC-0dd39f@http://www.cumbrestoltec.org/
DTSTAMP:20260423T203750Z
DESCRIPTION:<p>2016 Train Season</p>\n<p>Visit <a href='http://www.cumbrest
 oltec.com'>www.cumbrestoltec.com</a>&nbsp\;for information and tickets</p>
DTSTART:20160621T100000Z
DTEND:20160621T110000Z
SUMMARY:Train Season
URL:https://www.cumbrestoltec.org/calendar/18-friends-of-the-c-ts-rr-calend
 ar/22-railroad-events/470-train-season.html
END:VEVENT
BEGIN:VEVENT
UID:20160620T080000UTC-6a1d36@http://www.cumbrestoltec.org/
DTSTAMP:20260423T203750Z
DESCRIPTION:
DTSTART:20160622T080000Z
DTEND:20160622T090000Z
SUMMARY:2016 Work Session C
URL:https://www.cumbrestoltec.org/calendar/18-friends-of-the-c-ts-rr-calend
 ar/20-work-sessions/363-2016-work-session-c.html
END:VEVENT
BEGIN:VEVENT
UID:20160528T100000UTC-0dd39f@http://www.cumbrestoltec.org/
DTSTAMP:20260423T203750Z
DESCRIPTION:<p>2016 Train Season</p>\n<p>Visit <a href='http://www.cumbrest
 oltec.com'>www.cumbrestoltec.com</a>&nbsp\;for information and tickets</p>
DTSTART:20160622T100000Z
DTEND:20160622T110000Z
SUMMARY:Train Season
URL:https://www.cumbrestoltec.org/calendar/18-friends-of-the-c-ts-rr-calend
 ar/22-railroad-events/471-train-season.html
END:VEVENT
BEGIN:VEVENT
UID:20160620T080000UTC-6a1d36@http://www.cumbrestoltec.org/
DTSTAMP:20260423T203750Z
DESCRIPTION:
DTSTART:20160623T080000Z
DTEND:20160623T090000Z
SUMMARY:2016 Work Session C
URL:https://www.cumbrestoltec.org/calendar/18-friends-of-the-c-ts-rr-calend
 ar/20-work-sessions/364-2016-work-session-c.html
END:VEVENT
BEGIN:VEVENT
UID:20160528T100000UTC-0dd39f@http://www.cumbrestoltec.org/
DTSTAMP:20260423T203750Z
DESCRIPTION:<p>2016 Train Season</p>\n<p>Visit <a href='http://www.cumbrest
 oltec.com'>www.cumbrestoltec.com</a>&nbsp\;for information and tickets</p>
DTSTART:20160623T100000Z
DTEND:20160623T110000Z
SUMMARY:Train Season
URL:https://www.cumbrestoltec.org/calendar/18-friends-of-the-c-ts-rr-calend
 ar/22-railroad-events/472-train-season.html
END:VEVENT
BEGIN:VEVENT
UID:20160620T080000UTC-6a1d36@http://www.cumbrestoltec.org/
DTSTAMP:20260423T203750Z
DESCRIPTION:
DTSTART:20160624T080000Z
DTEND:20160624T090000Z
SUMMARY:2016 Work Session C
URL:https://www.cumbrestoltec.org/calendar/18-friends-of-the-c-ts-rr-calend
 ar/20-work-sessions/365-2016-work-session-c.html
END:VEVENT
BEGIN:VEVENT
UID:20160528T100000UTC-0dd39f@http://www.cumbrestoltec.org/
DTSTAMP:20260423T203750Z
DESCRIPTION:<p>2016 Train Season</p>\n<p>Visit <a href='http://www.cumbrest
 oltec.com'>www.cumbrestoltec.com</a>&nbsp\;for information and tickets</p>
DTSTART:20160624T100000Z
DTEND:20160624T110000Z
SUMMARY:Train Season
URL:https://www.cumbrestoltec.org/calendar/18-friends-of-the-c-ts-rr-calend
 ar/22-railroad-events/473-train-season.html
END:VEVENT
BEGIN:VEVENT
UID:20160624T180000UTC-fcad6d@http://www.cumbrestoltec.org/
DTSTAMP:20260423T203750Z
DESCRIPTION:
DTSTART:20160624T180000Z
DTEND:20160624T190000Z
SUMMARY:Member Dinner
URL:https://www.cumbrestoltec.org/calendar/18-friends-of-the-c-ts-rr-calend
 ar/19-friends-events/400-member-dinner.html
END:VEVENT
BEGIN:VEVENT
UID:20160528T100000UTC-0dd39f@http://www.cumbrestoltec.org/
DTSTAMP:20260423T203750Z
DESCRIPTION:<p>2016 Train Season</p>\n<p>Visit <a href='http://www.cumbrest
 oltec.com'>www.cumbrestoltec.com</a>&nbsp\;for information and tickets</p>
DTSTART:20160625T100000Z
DTEND:20160625T110000Z
SUMMARY:Train Season
URL:https://www.cumbrestoltec.org/calendar/18-friends-of-the-c-ts-rr-calend
 ar/22-railroad-events/474-train-season.html
END:VEVENT
END:VCALENDAR
