BEGIN:VCALENDAR
VERSION:2.0
PRODID:-//https://www.cumbrestoltec.org//NONSGML kigkonsult.se iCalcreator 
 2.16.12//
METHOD:PUBLISH
X-WR-CALNAME:JCal Pro Calendar
X-WR-CALDESC:Your online events calendar
X-WR-TIMEZONE:UTC
BEGIN:VEVENT
UID:20160528T100000UTC-0dd39f@http://www.cumbrestoltec.org/
DTSTAMP:20260423T235832Z
DESCRIPTION:<p>2016 Train Season</p>\n<p>Visit <a href='http://www.cumbrest
 oltec.com'>www.cumbrestoltec.com</a>&nbsp\;for information and tickets</p>
DTSTART:20160828T100000Z
DTEND:20160828T110000Z
SUMMARY:Train Season
URL:https://www.cumbrestoltec.org/calendar/18-friends-of-the-c-ts-rr-calend
 ar/22-railroad-events/538-train-season.html
END:VEVENT
BEGIN:VEVENT
UID:20160528T100000UTC-0dd39f@http://www.cumbrestoltec.org/
DTSTAMP:20260423T235832Z
DESCRIPTION:<p>2016 Train Season</p>\n<p>Visit <a href='http://www.cumbrest
 oltec.com'>www.cumbrestoltec.com</a>&nbsp\;for information and tickets</p>
DTSTART:20160829T100000Z
DTEND:20160829T110000Z
SUMMARY:Train Season
URL:https://www.cumbrestoltec.org/calendar/18-friends-of-the-c-ts-rr-calend
 ar/22-railroad-events/539-train-season.html
END:VEVENT
BEGIN:VEVENT
UID:20160528T100000UTC-0dd39f@http://www.cumbrestoltec.org/
DTSTAMP:20260423T235832Z
DESCRIPTION:<p>2016 Train Season</p>\n<p>Visit <a href='http://www.cumbrest
 oltec.com'>www.cumbrestoltec.com</a>&nbsp\;for information and tickets</p>
DTSTART:20160830T100000Z
DTEND:20160830T110000Z
SUMMARY:Train Season
URL:https://www.cumbrestoltec.org/calendar/18-friends-of-the-c-ts-rr-calend
 ar/22-railroad-events/540-train-season.html
END:VEVENT
BEGIN:VEVENT
UID:20160528T100000UTC-0dd39f@http://www.cumbrestoltec.org/
DTSTAMP:20260423T235832Z
DESCRIPTION:<p>2016 Train Season</p>\n<p>Visit <a href='http://www.cumbrest
 oltec.com'>www.cumbrestoltec.com</a>&nbsp\;for information and tickets</p>
DTSTART:20160831T100000Z
DTEND:20160831T110000Z
SUMMARY:Train Season
URL:https://www.cumbrestoltec.org/calendar/18-friends-of-the-c-ts-rr-calend
 ar/22-railroad-events/541-train-season.html
END:VEVENT
BEGIN:VEVENT
UID:20160528T100000UTC-0dd39f@http://www.cumbrestoltec.org/
DTSTAMP:20260423T235832Z
DESCRIPTION:<p>2016 Train Season</p>\n<p>Visit <a href='http://www.cumbrest
 oltec.com'>www.cumbrestoltec.com</a>&nbsp\;for information and tickets</p>
DTSTART:20160901T100000Z
DTEND:20160901T110000Z
SUMMARY:Train Season
URL:https://www.cumbrestoltec.org/calendar/18-friends-of-the-c-ts-rr-calend
 ar/22-railroad-events/542-train-season.html
END:VEVENT
BEGIN:VEVENT
UID:20160528T100000UTC-0dd39f@http://www.cumbrestoltec.org/
DTSTAMP:20260423T235832Z
DESCRIPTION:<p>2016 Train Season</p>\n<p>Visit <a href='http://www.cumbrest
 oltec.com'>www.cumbrestoltec.com</a>&nbsp\;for information and tickets</p>
DTSTART:20160902T100000Z
DTEND:20160902T110000Z
SUMMARY:Train Season
URL:https://www.cumbrestoltec.org/calendar/18-friends-of-the-c-ts-rr-calend
 ar/22-railroad-events/543-train-season.html
END:VEVENT
BEGIN:VEVENT
UID:20160528T100000UTC-0dd39f@http://www.cumbrestoltec.org/
DTSTAMP:20260423T235832Z
DESCRIPTION:<p>2016 Train Season</p>\n<p>Visit <a href='http://www.cumbrest
 oltec.com'>www.cumbrestoltec.com</a>&nbsp\;for information and tickets</p>
DTSTART:20160903T100000Z
DTEND:20160903T110000Z
SUMMARY:Train Season
URL:https://www.cumbrestoltec.org/calendar/18-friends-of-the-c-ts-rr-calend
 ar/22-railroad-events/544-train-season.html
END:VEVENT
END:VCALENDAR
