BEGIN:VCALENDAR
VERSION:2.0
PRODID:-//https://www.cumbrestoltec.org//NONSGML kigkonsult.se iCalcreator 
 2.16.12//
METHOD:PUBLISH
X-WR-CALNAME:JCal Pro Calendar
X-WR-CALDESC:Your online events calendar
X-WR-TIMEZONE:UTC
BEGIN:VEVENT
UID:20170731T080000UTC-72fbaa@http://www.cumbrestoltec.org/
DTSTAMP:20260424T171459Z
DESCRIPTION:<p>Work Session F</p>
DTSTART:20170731T000000Z
SUMMARY:2017 Work Session F
URL:https://www.cumbrestoltec.org/calendar/18-friends-of-the-c-ts-rr-calend
 ar/20-work-sessions/630-2017-work-session-f.html
END:VEVENT
BEGIN:VEVENT
UID:20170731T080000UTC-72fbaa@http://www.cumbrestoltec.org/
DTSTAMP:20260424T171459Z
DESCRIPTION:<p>Work Session F</p>
DTSTART:20170801T000000Z
SUMMARY:2017 Work Session F
URL:https://www.cumbrestoltec.org/calendar/18-friends-of-the-c-ts-rr-calend
 ar/20-work-sessions/661-2017-work-session-f.html
END:VEVENT
BEGIN:VEVENT
UID:20170731T080000UTC-72fbaa@http://www.cumbrestoltec.org/
DTSTAMP:20260424T171459Z
DESCRIPTION:<p>Work Session F</p>
DTSTART:20170802T000000Z
SUMMARY:2017 Work Session F
URL:https://www.cumbrestoltec.org/calendar/18-friends-of-the-c-ts-rr-calend
 ar/20-work-sessions/662-2017-work-session-f.html
END:VEVENT
BEGIN:VEVENT
UID:20170731T080000UTC-72fbaa@http://www.cumbrestoltec.org/
DTSTAMP:20260424T171459Z
DESCRIPTION:<p>Work Session F</p>
DTSTART:20170803T000000Z
SUMMARY:2017 Work Session F
URL:https://www.cumbrestoltec.org/calendar/18-friends-of-the-c-ts-rr-calend
 ar/20-work-sessions/663-2017-work-session-f.html
END:VEVENT
BEGIN:VEVENT
UID:20170731T080000UTC-72fbaa@http://www.cumbrestoltec.org/
DTSTAMP:20260424T171459Z
DESCRIPTION:<p>Work Session F</p>
DTSTART:20170804T000000Z
SUMMARY:2017 Work Session F
URL:https://www.cumbrestoltec.org/calendar/18-friends-of-the-c-ts-rr-calend
 ar/20-work-sessions/664-2017-work-session-f.html
END:VEVENT
BEGIN:VEVENT
UID:20170804T200000UTC-c8ef41@http://www.cumbrestoltec.org/
DTSTAMP:20260424T171459Z
DESCRIPTION:<p>2017 Moonlight &amp\; Wine Tasting Train</p>
DTSTART:20170804T200000Z
DTEND:20170804T210000Z
SUMMARY:2017 Moonlight & Wine Tasting Train
URL:https://www.cumbrestoltec.org/calendar/18-friends-of-the-c-ts-rr-calend
 ar/19-friends-events/672-2017-moonlight-wine-tasting-train.html
END:VEVENT
END:VCALENDAR
