BEGIN:VCALENDAR
VERSION:2.0
PRODID:-//https://www.cumbrestoltec.org//NONSGML kigkonsult.se iCalcreator 
 2.16.12//
METHOD:PUBLISH
X-WR-CALNAME:JCal Pro Calendar
X-WR-CALDESC:Your online events calendar
X-WR-TIMEZONE:UTC
BEGIN:VEVENT
UID:20171014T080000UTC-956958@http://www.cumbrestoltec.org/
DTSTAMP:20260424T215104Z
DESCRIPTION:<p>2017 Fall Board Meeting&nbsp\; Refer to the NEWS feeds for u
 pdates about this event</p>
DTSTART:20171014T080000Z
DTEND:20171014T090000Z
SUMMARY:2017 Fall Board Meeting (Tentative)
URL:https://www.cumbrestoltec.org/calendar/18-friends-of-the-c-ts-rr-calend
 ar/19-friends-events/674-2017-fall-board-meeting.html
END:VEVENT
END:VCALENDAR
